BEGIN:VCALENDAR
VERSION:2.0
PRODID:-//Eastern Outdoor Experiences - ECPv6.15.18//NONSGML v1.0//EN
CALSCALE:GREGORIAN
METHOD:PUBLISH
X-ORIGINAL-URL:https://easternoutdoorexperiences.com
X-WR-CALDESC:Events for Eastern Outdoor Experiences
REFRESH-INTERVAL;VALUE=DURATION:PT1H
X-Robots-Tag:noindex
X-PUBLISHED-TTL:PT1H
BEGIN:VTIMEZONE
TZID:America/New_York
BEGIN:DAYLIGHT
TZOFFSETFROM:-0500
TZOFFSETTO:-0400
TZNAME:EDT
DTSTART:20200308T070000
END:DAYLIGHT
BEGIN:STANDARD
TZOFFSETFROM:-0400
TZOFFSETTO:-0500
TZNAME:EST
DTSTART:20201101T060000
END:STANDARD
BEGIN:DAYLIGHT
TZOFFSETFROM:-0500
TZOFFSETTO:-0400
TZNAME:EDT
DTSTART:20210314T070000
END:DAYLIGHT
BEGIN:STANDARD
TZOFFSETFROM:-0400
TZOFFSETTO:-0500
TZNAME:EST
DTSTART:20211107T060000
END:STANDARD
BEGIN:DAYLIGHT
TZOFFSETFROM:-0500
TZOFFSETTO:-0400
TZNAME:EDT
DTSTART:20220313T070000
END:DAYLIGHT
BEGIN:STANDARD
TZOFFSETFROM:-0400
TZOFFSETTO:-0500
TZNAME:EST
DTSTART:20221106T060000
END:STANDARD
BEGIN:DAYLIGHT
TZOFFSETFROM:-0500
TZOFFSETTO:-0400
TZNAME:EDT
DTSTART:20230312T070000
END:DAYLIGHT
BEGIN:STANDARD
TZOFFSETFROM:-0400
TZOFFSETTO:-0500
TZNAME:EST
DTSTART:20231105T060000
END:STANDARD
BEGIN:DAYLIGHT
TZOFFSETFROM:-0500
TZOFFSETTO:-0400
TZNAME:EDT
DTSTART:20240310T070000
END:DAYLIGHT
BEGIN:STANDARD
TZOFFSETFROM:-0400
TZOFFSETTO:-0500
TZNAME:EST
DTSTART:20241103T060000
END:STANDARD
BEGIN:DAYLIGHT
TZOFFSETFROM:-0500
TZOFFSETTO:-0400
TZNAME:EDT
DTSTART:20250309T070000
END:DAYLIGHT
BEGIN:STANDARD
TZOFFSETFROM:-0400
TZOFFSETTO:-0500
TZNAME:EST
DTSTART:20251102T060000
END:STANDARD
END:VTIMEZONE
BEGIN:VEVENT
DTSTART;TZID=America/New_York:20240621T080000
DTEND;TZID=America/New_York:20240623T170000
DTSTAMP:20260422T184815
CREATED:20230324T180800Z
LAST-MODIFIED:20230904T190429Z
UID:4529-1718956800-1719162000@easternoutdoorexperiences.com
SUMMARY:Adirondack Backpack
DESCRIPTION:Private Group.  June 21-23\, 2024 \n\n\n\nStart planning your 2024 adventures.  Whether peak-bagging\, sight seeing\, or learning to backpack\, we arrange special experiences for groups and individuals.  Contact Ed for more information or to schedule your guided hiking and backpacking trips in the beautiful mountains of New York. \n\n\n\n\n\n\n\n\nPlan my trip\n\n\n\n\n\n\n\n\n\n\n\n\nWe specialize in guided Adirondack backpacks and day hikes. Our clients love our exciting itineraries\, thirst for adventure\, and amazing backcountry food. \n\n\n\nFor aspiring 46’ers\, we can help you reach your goal. From carefully planned day routes to comfortable backpacks to put the more remote peaks within reach\, we have helped hikers of all abilities to achieve their goals. We fully plan and guide great trips while coaching you to help achieve your goals. \n\n\n\n \n\n\n\nCheck out some photos of past trips: \n\n\n\nhttps://photos.app.goo.gl/BWRmnwJfd3VgTCT76 \n\n\n\nhttps://photos.app.goo.gl/uLmeJWTFUBUmTKfi6 \n\n\n\nhttps://photos.app.goo.gl/sn4YMtGewPpcguo48 \n\n\n\nhttps://photos.app.goo.gl/qVxoHTLM5wZnPbn68 \n\n\n\n\n\n\n\n\n\n\nShare this:\n				Share on X (Opens in new window)\n				X\n			\n				Share on Facebook (Opens in new window)\n				Facebook
URL:https://easternoutdoorexperiences.com/event/20230622-adirondack-backpack/
CATEGORIES:Backpack
ATTACH;FMTTYPE=image/jpeg:https://easternoutdoorexperiences.com/wp-content/uploads/2023/03/20210728_095751Marcy-ces400.jpg
END:VEVENT
BEGIN:VEVENT
DTSTART;TZID=America/New_York:20230819T080000
DTEND;TZID=America/New_York:20230820T170000
DTSTAMP:20260422T184815
CREATED:20230609T235229Z
LAST-MODIFIED:20230609T235551Z
UID:4718-1692432000-1692550800@easternoutdoorexperiences.com
SUMMARY:Beginner Group Backpacking
DESCRIPTION:Our Catskill Backpacking experience is a fully guided overnight small group hiking and camping trip that is ideal for beginners and novices. This fun and hands-on experience will focus on teaching backcountry fundamentals in a small group setting. \n\n\n\nClick here for more details \n\n\n\n\nDetails\n\n\n\n\n\n\n\n\nReserve Now: \n\n\n\n\nReserve\n\n\n\n\n\n\n\n\n\n\n\n\nWe can arrange backpacks and private special events for your group. Contact Ed for more information. \n\n\n\n\nContact\n\n\n\n\n\n\n\n\n\n\n\nShare this:\n				Share on X (Opens in new window)\n				X\n			\n				Share on Facebook (Opens in new window)\n				Facebook
URL:https://easternoutdoorexperiences.com/event/20230819-beginner-group-backpacking/
CATEGORIES:Beginner Backpack
ATTACH;FMTTYPE=image/jpeg:https://easternoutdoorexperiences.com/wp-content/uploads/2023/02/20221023_100554-2-backpack.jpg
END:VEVENT
BEGIN:VEVENT
DTSTART;TZID=America/New_York:20211023T000000
DTEND;TZID=America/New_York:20211024T235959
DTSTAMP:20260422T184815
CREATED:20211005T205248Z
LAST-MODIFIED:20230609T231421Z
UID:3558-1634947200-1635119999@easternoutdoorexperiences.com
SUMMARY:Learn To Backpack
DESCRIPTION:Learn to backpack with us and experience fall in the Catskills like you’ve never experienced it before. We’ll provide group gear\, great meals and teach you the ropes in an idyllic setting. \nIncludes: \n3 meals\nGroup gear\nLicensed\, professional outdoor guide\, instruction and coaching \n  \nReserve your spot now:\nhttps://easternoutdoorexperiences.com/product/beginner-backpacking-catskills-session-2/ \n  \nGet more details:\nhttps://easternoutdoorexperiences.com/2021/08/02/catskill-backpacking-for-beginners/ \nShare this:\n				Share on X (Opens in new window)\n				X\n			\n				Share on Facebook (Opens in new window)\n				Facebook
URL:https://easternoutdoorexperiences.com/event/learn-to-backpack-20211023/
CATEGORIES:Backpack
END:VEVENT
END:VCALENDAR