BEGIN:VCALENDAR
VERSION:2.0
PRODID:-//Eastern Outdoor Experiences - ECPv6.15.18//NONSGML v1.0//EN
CALSCALE:GREGORIAN
METHOD:PUBLISH
X-WR-CALNAME:Eastern Outdoor Experiences
X-ORIGINAL-URL:https://easternoutdoorexperiences.com
X-WR-CALDESC:Events for Eastern Outdoor Experiences
REFRESH-INTERVAL;VALUE=DURATION:PT1H
X-Robots-Tag:noindex
X-PUBLISHED-TTL:PT1H
BEGIN:VTIMEZONE
TZID:America/New_York
BEGIN:DAYLIGHT
TZOFFSETFROM:-0500
TZOFFSETTO:-0400
TZNAME:EDT
DTSTART:20200308T070000
END:DAYLIGHT
BEGIN:STANDARD
TZOFFSETFROM:-0400
TZOFFSETTO:-0500
TZNAME:EST
DTSTART:20201101T060000
END:STANDARD
BEGIN:DAYLIGHT
TZOFFSETFROM:-0500
TZOFFSETTO:-0400
TZNAME:EDT
DTSTART:20210314T070000
END:DAYLIGHT
BEGIN:STANDARD
TZOFFSETFROM:-0400
TZOFFSETTO:-0500
TZNAME:EST
DTSTART:20211107T060000
END:STANDARD
BEGIN:DAYLIGHT
TZOFFSETFROM:-0500
TZOFFSETTO:-0400
TZNAME:EDT
DTSTART:20220313T070000
END:DAYLIGHT
BEGIN:STANDARD
TZOFFSETFROM:-0400
TZOFFSETTO:-0500
TZNAME:EST
DTSTART:20221106T060000
END:STANDARD
END:VTIMEZONE
BEGIN:VEVENT
DTSTART;TZID=America/New_York:20210608T190000
DTEND;TZID=America/New_York:20210608T203000
DTSTAMP:20260423T050827
CREATED:20210601T053214Z
LAST-MODIFIED:20240202T050328Z
UID:3360-1623178800-1623184200@easternoutdoorexperiences.com
SUMMARY:Guiding in NY (evening)
DESCRIPTION:Ed Moran\, a licensed New York State Outdoor Guide will speak to the ADK Albany chapter about guiding in NY.\n\nA guide license is required in NY to offer services for hire that include directing\, instructing\, or aiding a client in hiking\, camping or paddling\, fishing\, hunting\, climbing and whitewater activities.  The presentation will cover requirements for becoming a guide\, guiding as a business\, core competencies\, and examples of what makes guiding rewarding and what makes a successful trip. Even if you don’t use a guide\, this interesting presentation will include ideas about where to go and how to make your own trips better.\n\nEd Moran is an ADK member\, a New York State Licensed Guide\, a Director of the New York State Outdoor Guides Association\, and a member of the Catskill Mountain Search and Rescue Team.\n\nThis will be an online meeting.\n\nContact the ADK Albany chapter to register for Guiding in NY.\nADK Albany Contact Form \n \n\nIf you are not an ADK member\, please consider joining this worthwhile organization working to protect New York’s wild lands and waters by promoting responsible outdoor recreation and building a statewide constituency of land stewardship advocates.\n \n\nContact Ed for more information about guided trips in New York\nContact \n \n\n\n\nShare this:\n				Share on X (Opens in new window)\n				X\n			\n				Share on Facebook (Opens in new window)\n				Facebook
URL:https://easternoutdoorexperiences.com/event/guiding-in-ny/
ATTACH;FMTTYPE=image/jpeg:https://easternoutdoorexperiences.com/wp-content/uploads/2021/03/GuidePin7568-DSC_0010c1.jpg
END:VEVENT
BEGIN:VEVENT
DTSTART;VALUE=DATE:20210408
DTEND;VALUE=DATE:20210409
DTSTAMP:20260423T050827
CREATED:20210311T012521Z
LAST-MODIFIED:20210311T012521Z
UID:3249-1617840000-1617926399@easternoutdoorexperiences.com
SUMMARY:Westkill Mountain
DESCRIPTION:Join us for April’s Catskill social series hike on Westkill Mountain.  At nearly 3900 feet Westkill’s summit is the 6th highest in the Catskills and our route will feature waterfalls and great views along the way.  Hopefully we’ll enjoy nice spring weather but it is possible that winter conditions could still be present on the mountain during April.  There are a couple of steep ledges on this mostly moderate Catskill hike. \nContact Ed to reserve your spot \nContact \n  \nHopefully you can join. If not check the other hikes in our 2021 Catskill Social Series as well as our guided 3500 series \n  \nCatskill 3500 Experiences \n \n  \nShare this:\n				Share on X (Opens in new window)\n				X\n			\n				Share on Facebook (Opens in new window)\n				Facebook
URL:https://easternoutdoorexperiences.com/event/westkill-mountain/
CATEGORIES:Display On Blog,Free Hike
ATTACH;FMTTYPE=image/jpeg:https://easternoutdoorexperiences.com/wp-content/uploads/2020/09/1103Westkill130s400.jpg
END:VEVENT
BEGIN:VEVENT
DTSTART;TZID=America/New_York:20210406T190000
DTEND;TZID=America/New_York:20210406T210000
DTSTAMP:20260423T050827
CREATED:20210322T173131Z
LAST-MODIFIED:20210323T060606Z
UID:3269-1617735600-1617742800@easternoutdoorexperiences.com
SUMMARY:Outdoor Guiding in New York
DESCRIPTION:This will be an online presentation for the LI Chapter of the Adirondack Mountain Club discussing outdoor guiding in New York. Open to all but you need to register for the meeting with the ADK LI Chapter to get the link for this meeting. \nMore info: \nApril Meeting\, 2021: “Guiding in NY” (N/R) \n \n \nShare this:\n				Share on X (Opens in new window)\n				X\n			\n				Share on Facebook (Opens in new window)\n				Facebook
URL:https://easternoutdoorexperiences.com/event/adk-presentation/
END:VEVENT
END:VCALENDAR