BEGIN:VCALENDAR
VERSION:2.0
PRODID:-//Eastern Outdoor Experiences - ECPv6.15.18//NONSGML v1.0//EN
CALSCALE:GREGORIAN
METHOD:PUBLISH
X-ORIGINAL-URL:https://easternoutdoorexperiences.com
X-WR-CALDESC:Events for Eastern Outdoor Experiences
REFRESH-INTERVAL;VALUE=DURATION:PT1H
X-Robots-Tag:noindex
X-PUBLISHED-TTL:PT1H
BEGIN:VTIMEZONE
TZID:America/New_York
BEGIN:DAYLIGHT
TZOFFSETFROM:-0500
TZOFFSETTO:-0400
TZNAME:EDT
DTSTART:20210314T070000
END:DAYLIGHT
BEGIN:STANDARD
TZOFFSETFROM:-0400
TZOFFSETTO:-0500
TZNAME:EST
DTSTART:20211107T060000
END:STANDARD
BEGIN:DAYLIGHT
TZOFFSETFROM:-0500
TZOFFSETTO:-0400
TZNAME:EDT
DTSTART:20220313T070000
END:DAYLIGHT
BEGIN:STANDARD
TZOFFSETFROM:-0400
TZOFFSETTO:-0500
TZNAME:EST
DTSTART:20221106T060000
END:STANDARD
BEGIN:DAYLIGHT
TZOFFSETFROM:-0500
TZOFFSETTO:-0400
TZNAME:EDT
DTSTART:20230312T070000
END:DAYLIGHT
BEGIN:STANDARD
TZOFFSETFROM:-0400
TZOFFSETTO:-0500
TZNAME:EST
DTSTART:20231105T060000
END:STANDARD
END:VTIMEZONE
BEGIN:VEVENT
DTSTART;TZID=America/New_York:20221208T080000
DTEND;TZID=America/New_York:20221208T170000
DTSTAMP:20260425T182911
CREATED:20220623T054747Z
LAST-MODIFIED:20221125T190013Z
UID:3944-1670486400-1670518800@easternoutdoorexperiences.com
SUMMARY:Rusk and Hunter Mt - Social Series
DESCRIPTION:Our December social series event in the Catskills is a combined bushwhack and trailed hike to Rusk and Hunter Mountains.  The first part of the day is a guided bushwhack of Rusk Mountain. Rusk isn’t far\, but very steep as the route climbs 1400 feet in just over a mile to the 3700 foot summit.  From there we’ll descend to the relatively easier Spruceton trail and ascend another 1800 feet to the Hunter Mountain summit fire tower.  At 4030 feet\, Hunter is the second highest peak in the Catskills. \n\n\n\nThe hike is strenuous and will total 10 miles with 3400 feet of elevation gain and will require full winter gear (including spikes and snowshoes). \n\n\n\n\n\n\n\n\n\n\n\n\n\n\n\nThis hike is being presented in conjunction with the Catskill 3500 Club and the Adirondack Mountain Club. We strongly encourage you to join one or both of these clubs. \n\n\n\nContact Ed to reserve your spot on this challenging hike. Please share a sentence or two about your recent hiking experience. \n\n\n\n\nContact\n\n\n\n\n\n\n\n\nAbout our social series:Ed is an avid hiker with a long tradition of giving back to the hiking community by leading free guided hikes for clubs and friends of Eastern Outdoor Experiences. There is never a charge for these hikes and all sufficiently fit hikers are welcome to join. If you’re not sure of your ability to do a hike\, call us and ask. Use the contact form to request our newsletter so that you can be informed of more upcoming hikes and events\, as well as useful advice for outdoor enthusiasts. \n\n\n\nHopefully you can join in this or other hikes in our 2022 Catskill Social series or in some of our fully guided Catskill offerings: \n\n\n\n\nCatskill 3500 Experiences\n\n\n\n\n\n\n\n\n\n\n\nShare this:\n				Share on X (Opens in new window)\n				X\n			\n				Share on Facebook (Opens in new window)\n				Facebook
URL:https://easternoutdoorexperiences.com/event/20221208-rusk-and-hunter-mt-social-series/
ATTACH;FMTTYPE=image/jpeg:https://easternoutdoorexperiences.com/wp-content/uploads/2015/03/20150321Hunter-022s400.jpg
END:VEVENT
END:VCALENDAR