BEGIN:VCALENDAR
VERSION:2.0
PRODID:-//Eastern Outdoor Experiences - ECPv6.15.18//NONSGML v1.0//EN
CALSCALE:GREGORIAN
METHOD:PUBLISH
X-WR-CALNAME:Eastern Outdoor Experiences
X-ORIGINAL-URL:https://easternoutdoorexperiences.com
X-WR-CALDESC:Events for Eastern Outdoor Experiences
REFRESH-INTERVAL;VALUE=DURATION:PT1H
X-Robots-Tag:noindex
X-PUBLISHED-TTL:PT1H
BEGIN:VTIMEZONE
TZID:America/New_York
BEGIN:DAYLIGHT
TZOFFSETFROM:-0500
TZOFFSETTO:-0400
TZNAME:EDT
DTSTART:20220313T070000
END:DAYLIGHT
BEGIN:STANDARD
TZOFFSETFROM:-0400
TZOFFSETTO:-0500
TZNAME:EST
DTSTART:20221106T060000
END:STANDARD
BEGIN:DAYLIGHT
TZOFFSETFROM:-0500
TZOFFSETTO:-0400
TZNAME:EDT
DTSTART:20230312T070000
END:DAYLIGHT
BEGIN:STANDARD
TZOFFSETFROM:-0400
TZOFFSETTO:-0500
TZNAME:EST
DTSTART:20231105T060000
END:STANDARD
BEGIN:DAYLIGHT
TZOFFSETFROM:-0500
TZOFFSETTO:-0400
TZNAME:EDT
DTSTART:20240310T070000
END:DAYLIGHT
BEGIN:STANDARD
TZOFFSETFROM:-0400
TZOFFSETTO:-0500
TZNAME:EST
DTSTART:20241103T060000
END:STANDARD
END:VTIMEZONE
BEGIN:VEVENT
DTSTART;TZID=America/New_York:20230411T190000
DTEND;TZID=America/New_York:20230411T210000
DTSTAMP:20260425T062138
CREATED:20230315T205703Z
LAST-MODIFIED:20230329T195721Z
UID:4502-1681239600-1681246800@easternoutdoorexperiences.com
SUMMARY:Wilderness First Aid Intro
DESCRIPTION:I’ll be presenting an introduction to Wilderness First Aid at the Adirondack Mountain Club – Long Island Chapter monthly membership meeting.  For more information\, check their website: https://www.adkli.org/ \n\n\nDo you know what to do if you or someone in your group is injured or becomes ill in the backcountry? In this introduction to Wilderness First Aid\, we’ll review some of the basics and get some hands-on practice. About the Speaker: Ed Moran is a Wilderness First Aid Instructor\, a licensed New York State Outdoor Guide\, a member of the Catskill Mountain Search and Rescue team and a Wilderness First Responder. \n\n\n\n\n\n\n\n\n\n\n\n\n\n\nI hope you can join us at the April ADKLI meeting\, which is free to attendees.  If you are looking for more\, we also provide full Wilderness First Aid certification classes for groups and organizations: \n\n\n\n\n\n\n\n\nView Course Description\n\n\n\n\n\n\n\n\n\nContact us for more information\n\n\n\n\n\n\n\n\n\n\n\nShare this:\n				Share on X (Opens in new window)\n				X\n			\n				Share on Facebook (Opens in new window)\n				Facebook
URL:https://easternoutdoorexperiences.com/event/20230411-wfa-presentation/
ATTACH;FMTTYPE=image/jpeg:https://easternoutdoorexperiences.com/wp-content/uploads/2022/06/WFA612_133626s300x533q50-c1x1.jpg
END:VEVENT
BEGIN:VEVENT
DTSTART;TZID=America/New_York:20230413T080000
DTEND;TZID=America/New_York:20230413T170000
DTSTAMP:20260425T062138
CREATED:20230317T160243Z
LAST-MODIFIED:20230427T223200Z
UID:4506-1681372800-1681405200@easternoutdoorexperiences.com
SUMMARY:Windham High Peak - Social Series
DESCRIPTION:4/1/23: THIS HIKE HAS BEEN POSTPONED UNTIL A LATER DATE (TBA) \n\n\n\nJoin us for this relaxed pace hike of Windham High Peak in the Catskills.  Windham High Peak is one of the less strenuous Catskill high peaks to climb\, but at 6 miles round-trip with nearly 1500 feet of elevation gain\, it is a good workout.  Depending on trail conditions\, spikes may still be needed. \n\n\n\nThis hike is being presented in conjunction with the Catskill 3500 Club and the Adirondack Mountain Club. We strongly encourage you to join one or both of these clubs. \n\n\n\n\nContact\n\n\n\n\nAbout our social series:Ed is an avid hiker with a long tradition of giving back to the hiking community by leading free guided hikes for clubs and friends of Eastern Outdoor Experiences. There is never a charge for these hikes and all sufficiently fit hikers are welcome to join. If you’re not sure of your ability to do a hike\, call us and ask. Use the contact form to request our newsletter so that you can be informed of more upcoming hikes and events\, as well as useful advice for outdoor enthusiasts. \n\n\n\nHopefully you can join in this or other hikes in our 2023 Catskill Social series or in some of our fully guided Catskill offerings: \n\n\n\n\nCatskill 3500 Experiences\n\n\n\n\n\n\n\n\n\n\n\nShare this:\n				Share on X (Opens in new window)\n				X\n			\n				Share on Facebook (Opens in new window)\n				Facebook
URL:https://easternoutdoorexperiences.com/event/20230413-windham/
ATTACH;FMTTYPE=image/jpeg:https://easternoutdoorexperiences.com/wp-content/uploads/2020/02/20180503_140449ecs400x267Windham.jpg
END:VEVENT
BEGIN:VEVENT
DTSTART;TZID=America/New_York:20230418T080000
DTEND;TZID=America/New_York:20230418T170000
DTSTAMP:20260425T062138
CREATED:20221213T235354Z
LAST-MODIFIED:20230211T213819Z
UID:4357-1681804800-1681837200@easternoutdoorexperiences.com
SUMMARY:Booked - Private Group Nature Walk
DESCRIPTION:Nature Walk (LI) \n\n\n\n We can arrange special events for your organization. Contact Ed for more information. \n\n\n\n \n\n\n\n\nContact\n\n\n\n\n\n\n\n\n\n\n\nShare this:\n				Share on X (Opens in new window)\n				X\n			\n				Share on Facebook (Opens in new window)\n				Facebook
URL:https://easternoutdoorexperiences.com/event/booked-20230411/
ATTACH;FMTTYPE=image/jpeg:https://easternoutdoorexperiences.com/wp-content/uploads/2018/12/20181107_161834s1500s450x253.jpg
END:VEVENT
END:VCALENDAR