BEGIN:VCALENDAR
VERSION:2.0
PRODID:-//Eastern Outdoor Experiences - ECPv6.15.18//NONSGML v1.0//EN
CALSCALE:GREGORIAN
METHOD:PUBLISH
X-ORIGINAL-URL:https://easternoutdoorexperiences.com
X-WR-CALDESC:Events for Eastern Outdoor Experiences
REFRESH-INTERVAL;VALUE=DURATION:PT1H
X-Robots-Tag:noindex
X-PUBLISHED-TTL:PT1H
BEGIN:VTIMEZONE
TZID:America/New_York
BEGIN:DAYLIGHT
TZOFFSETFROM:-0500
TZOFFSETTO:-0400
TZNAME:EDT
DTSTART:20220313T070000
END:DAYLIGHT
BEGIN:STANDARD
TZOFFSETFROM:-0400
TZOFFSETTO:-0500
TZNAME:EST
DTSTART:20221106T060000
END:STANDARD
BEGIN:DAYLIGHT
TZOFFSETFROM:-0500
TZOFFSETTO:-0400
TZNAME:EDT
DTSTART:20230312T070000
END:DAYLIGHT
BEGIN:STANDARD
TZOFFSETFROM:-0400
TZOFFSETTO:-0500
TZNAME:EST
DTSTART:20231105T060000
END:STANDARD
BEGIN:DAYLIGHT
TZOFFSETFROM:-0500
TZOFFSETTO:-0400
TZNAME:EDT
DTSTART:20240310T070000
END:DAYLIGHT
BEGIN:STANDARD
TZOFFSETFROM:-0400
TZOFFSETTO:-0500
TZNAME:EST
DTSTART:20241103T060000
END:STANDARD
END:VTIMEZONE
BEGIN:VEVENT
DTSTART;TZID=America/New_York:20230603T080000
DTEND;TZID=America/New_York:20230603T113000
DTSTAMP:20260424T203618
CREATED:20230323T183711Z
LAST-MODIFIED:20230531T215520Z
UID:4526-1685779200-1685791800@easternoutdoorexperiences.com
SUMMARY:National Trails Day Social Hike LI
DESCRIPTION:Join us on National Trails Day for a fun hike I am leading for the Adirondack Mountain Club in Sunken Meadow State Park on the north shore of Long Island. \n\n\n\nThis hike will include the famous bluffs as well as trails in parts of the park that most people never visit. It will be a moderately strenuous hike as we will cover 6.5 miles and 1100 feet of elevation gain while aiming for a pace of around 2 mph. The hills and remote feel of the trails (despite being close to roads and homes) provide an experience reminiscent of Harriman State Park. Some of the hills are steep and there are a couple of spots that feature tricky footing. Dress for the weather\, wear sturdy hiking shoes or boots and bring at least a liter of water. \n\n\n\n\n\n\n\nFor registration details\, see the ADK Long Island Website \n\n\n\n\n\n\n\nMore questions?  Feel free to contact us: \n\n\n\n\n\n\n\n\nContact\n\n\n\n\n\n\n\n\n\n\n\nShare this:\n				Share on X (Opens in new window)\n				X\n			\n				Share on Facebook (Opens in new window)\n				Facebook
URL:https://easternoutdoorexperiences.com/event/20230603-national-trails-day/
ATTACH;FMTTYPE=image/jpeg:https://easternoutdoorexperiences.com/wp-content/uploads/2023/03/20220929_152927SunkenMeadow-e.jpg
END:VEVENT
BEGIN:VEVENT
DTSTART;TZID=America/New_York:20230606T083000
DTEND;TZID=America/New_York:20230606T130000
DTSTAMP:20260424T203618
CREATED:20230530T221039Z
LAST-MODIFIED:20230530T221932Z
UID:4627-1686040200-1686056400@easternoutdoorexperiences.com
SUMMARY:Private Group Nature Walk
DESCRIPTION:Nature Walk \n\n\n\nWe can arrange special events for your organization. Contact Ed for more information. \n\n\n\n\nContact\n\n\n\n\n\n\n\n\n\n\n\nShare this:\n				Share on X (Opens in new window)\n				X\n			\n				Share on Facebook (Opens in new window)\n				Facebook
URL:https://easternoutdoorexperiences.com/event/20230606-nature-walk/
ATTACH;FMTTYPE=image/jpeg:https://easternoutdoorexperiences.com/wp-content/uploads/2023/05/20230516_112949s400.jpg
END:VEVENT
BEGIN:VEVENT
DTSTART;TZID=America/New_York:20230608T080000
DTEND;TZID=America/New_York:20230608T170000
DTSTAMP:20260424T203618
CREATED:20230317T165024Z
LAST-MODIFIED:20230524T191817Z
UID:4512-1686211200-1686243600@easternoutdoorexperiences.com
SUMMARY:Bearpen and Vly Mountains - Social Series
DESCRIPTION:Our June social series hike will be to Bearpen and Vly Mountains.  Considered trail-less summits\, these will feel very much like trailed hikes.  After an interesting hike to the summit canister on Vly Mountain\, we’ll proceed to Bearpen Mountain where we’ll enjoy some unique views of the Schoharie Valley\, as well as remains from an abandoned ski area near the summit.  The hike is a workout at 6.5 miles and nearly 2100 feet of elevation gain\, but much of the climbing is relatively gentle compared to most Catskill high peaks. \n\n\n\nThis hike is being presented in conjunction with the Catskill 3500 Club and the Adirondack Mountain Club. We strongly encourage you to join one or both of these clubs. \n\n\n\nContact Ed to reserve your spot on this fun\, but challenging hike. Please share a sentence or two about your recent hiking experience. \n\n\n\n\nContact\n\n\n\n\n\n\n\n\n\n\n\n\nAbout our social series:Ed is an avid hiker with a long tradition of giving back to the hiking community by leading free guided hikes for clubs and friends of Eastern Outdoor Experiences. There is never a charge for these hikes and all sufficiently fit hikers are welcome to join. If you’re not sure of your ability to do a hike\, call us and ask. Use the contact form to request our newsletter so that you can be informed of more upcoming hikes and events\, as well as useful advice for outdoor enthusiasts. \n\n\n\nHopefully you can join in this or other hikes in our 2023 Catskill Social series or in some of our fully guided Catskill offerings: \n\n\n\n\nCatskill 3500 Experiences\n\n\n\n\n\n\n\n\n\n\n\nShare this:\n				Share on X (Opens in new window)\n				X\n			\n				Share on Facebook (Opens in new window)\n				Facebook
URL:https://easternoutdoorexperiences.com/event/20230608-bearpen-vly/
ATTACH;FMTTYPE=image/jpeg:https://easternoutdoorexperiences.com/wp-content/uploads/2023/05/20180714_103738_002e-Bearpen.jpg
END:VEVENT
BEGIN:VEVENT
DTSTART;TZID=America/New_York:20230613T193000
DTEND;TZID=America/New_York:20230613T210000
DTSTAMP:20260424T203618
CREATED:20230531T221932Z
LAST-MODIFIED:20230531T224300Z
UID:4650-1686684600-1686690000@easternoutdoorexperiences.com
SUMMARY:Long Island National Wildlife Refuges (ADK meeting)
DESCRIPTION:Ranger Ann Marie Chapman of the U.S. Fish and Wildlife Service will discuss the ten National Wildlife Refuges located across Long Island\, with emphasis on refuges open to the public and recreational opportunities at these hidden gems. \n\n\n\nThis meeting is sponsored by the Long island Chapter of the Adirondack Mountain Club and is free to attend. \n\n\n\nSee the ADKLI website for more details: \n\n\n\n\n\n\n\n\nJune Meeting\, 2023: Long Island National Wildlife Refuges (N/R)\n\n\n\n\nPlease consider joining the Adirondack Mountain Club and help to protect New York State wild lands and waters by promoting responsible outdoor recreation and building a statewide constituency of land stewardship advocates. \n\n\n\n\n\n\n\n\n\n\n\n\n\n\nShare this:\n				Share on X (Opens in new window)\n				X\n			\n				Share on Facebook (Opens in new window)\n				Facebook
URL:https://easternoutdoorexperiences.com/event/20230613-adkli/
ATTACH;FMTTYPE=image/jpeg:https://easternoutdoorexperiences.com/wp-content/uploads/2023/05/ADK-logo-s400.jpg
END:VEVENT
BEGIN:VEVENT
DTSTART;TZID=America/New_York:20230620T190000
DTEND;TZID=America/New_York:20230620T210000
DTSTAMP:20260424T203618
CREATED:20230315T205013Z
LAST-MODIFIED:20230531T224439Z
UID:4500-1687287600-1687294800@easternoutdoorexperiences.com
SUMMARY:ADKLI Board
DESCRIPTION:Share this:\n				Share on X (Opens in new window)\n				X\n			\n				Share on Facebook (Opens in new window)\n				Facebook
URL:https://easternoutdoorexperiences.com/event/20230322adk-board/
END:VEVENT
END:VCALENDAR