BEGIN:VCALENDAR
VERSION:2.0
PRODID:-//Eastern Outdoor Experiences - ECPv6.15.18//NONSGML v1.0//EN
CALSCALE:GREGORIAN
METHOD:PUBLISH
X-ORIGINAL-URL:https://easternoutdoorexperiences.com
X-WR-CALDESC:Events for Eastern Outdoor Experiences
REFRESH-INTERVAL;VALUE=DURATION:PT1H
X-Robots-Tag:noindex
X-PUBLISHED-TTL:PT1H
BEGIN:VTIMEZONE
TZID:America/New_York
BEGIN:DAYLIGHT
TZOFFSETFROM:-0500
TZOFFSETTO:-0400
TZNAME:EDT
DTSTART:20220313T070000
END:DAYLIGHT
BEGIN:STANDARD
TZOFFSETFROM:-0400
TZOFFSETTO:-0500
TZNAME:EST
DTSTART:20221106T060000
END:STANDARD
BEGIN:DAYLIGHT
TZOFFSETFROM:-0500
TZOFFSETTO:-0400
TZNAME:EDT
DTSTART:20230312T070000
END:DAYLIGHT
BEGIN:STANDARD
TZOFFSETFROM:-0400
TZOFFSETTO:-0500
TZNAME:EST
DTSTART:20231105T060000
END:STANDARD
BEGIN:DAYLIGHT
TZOFFSETFROM:-0500
TZOFFSETTO:-0400
TZNAME:EDT
DTSTART:20240310T070000
END:DAYLIGHT
BEGIN:STANDARD
TZOFFSETFROM:-0400
TZOFFSETTO:-0500
TZNAME:EST
DTSTART:20241103T060000
END:STANDARD
END:VTIMEZONE
BEGIN:VEVENT
DTSTART;TZID=America/New_York:20230706T000000
DTEND;TZID=America/New_York:20230706T235959
DTSTAMP:20260424T174537
CREATED:20210601T044310Z
LAST-MODIFIED:20230609T222211Z
UID:3358-1688601600-1688687999@easternoutdoorexperiences.com
SUMMARY:Indian Head and Twin
DESCRIPTION:The July Catskill social series hike steps up the challenge with an ascent of Indian Head and Twin Mountains\, the two eastern-most peaks on the renowned Devils Path. The trail may have a threatening name\, but the views on this hike are sublime. This hike of Indian Head and Twin includes some rough sections of trail with difficult scrambles and may not be suitable for novices unless in good shape with recent mountain-hiking experience. If you are not sure\, please don’t be shy about asking and we’ll be happy to advise you. \n\n\n\nThis hike is being presented in conjunction with the Adirondack Mountain Club. We strongly encourage you to consider joining the ADK. \n\n\n\nContact Ed to reserve your spot. Please share a sentence or two about your recent hiking experience. \n\n\n\n\nContact\n\n\n\n\n\n\n\n\n\n\n\n\n\n\n\n\nAbout our social series:Ed is an avid hiker with a long tradition of giving back to the hiking community by leading free guided hikes for clubs and friends of Eastern Outdoor Experiences. There is never a charge for these hikes and all sufficiently fit hikers are welcome to join. If you’re not sure of your ability to do a hike\, call us and ask. Use the contact form to request our newsletter so that you can be informed of more upcoming hikes and events\, as well as useful advice for outdoor enthusiasts. \n\n\n\nHopefully you can join in this or other hikes in our 2023 Catskill Social series or in some of our fully guided Catskill offerings: \n\n\n\n\n\n\n\n\nCatskill 3500 Experiences\n\n\n\n\n\n\n\nShare this:\n				Share on X (Opens in new window)\n				X\n			\n				Share on Facebook (Opens in new window)\n				Facebook
URL:https://easternoutdoorexperiences.com/event/indian-head-and-twin/
ATTACH;FMTTYPE=image/jpeg:https://easternoutdoorexperiences.com/wp-content/uploads/2021/04/20200918_134105-IH-Twin.jpg
END:VEVENT
BEGIN:VEVENT
DTSTART;TZID=America/New_York:20230708T080000
DTEND;TZID=America/New_York:20230709T170000
DTSTAMP:20260424T174537
CREATED:20230323T182931Z
LAST-MODIFIED:20230612T203855Z
UID:4522-1688803200-1688922000@easternoutdoorexperiences.com
SUMMARY:SAR
DESCRIPTION:Share this:\n				Share on X (Opens in new window)\n				X\n			\n				Share on Facebook (Opens in new window)\n				Facebook
URL:https://easternoutdoorexperiences.com/event/20230708sar/
END:VEVENT
BEGIN:VEVENT
DTSTART;TZID=America/New_York:20230713T080000
DTEND;TZID=America/New_York:20230714T170000
DTSTAMP:20260424T174537
CREATED:20230609T232507Z
LAST-MODIFIED:20230609T235141Z
UID:4708-1689235200-1689354000@easternoutdoorexperiences.com
SUMMARY:Beginner Group Backpacking
DESCRIPTION:Our Catskill Backpacking experience is a fully guided overnight small group hiking and camping trip that is ideal for beginners and novices. This fun and hands-on experience will focus on teaching backcountry fundamentals in a small group setting. \n\n\n\nClick here for more details \n\n\n\n\nDetails\n\n\n\n\n\n\n\n\nReserve Now: \n\n\n\n\nReserve\n\n\n\n\n\n\n\n\n\n\n\n\nWe can arrange backpacks and private special events for your group. Contact Ed for more information. \n\n\n\n\nContact\n\n\n\n\n\n\n\n\n\n\n\nShare this:\n				Share on X (Opens in new window)\n				X\n			\n				Share on Facebook (Opens in new window)\n				Facebook
URL:https://easternoutdoorexperiences.com/event/beginner-group-backpacking/
ATTACH;FMTTYPE=image/jpeg:https://easternoutdoorexperiences.com/wp-content/uploads/2022/09/20220823_111103es400Backpack.jpg
END:VEVENT
BEGIN:VEVENT
DTSTART;TZID=America/New_York:20230719T080000
DTEND;TZID=America/New_York:20230719T130000
DTSTAMP:20260424T174537
CREATED:20230530T222046Z
LAST-MODIFIED:20230530T222047Z
UID:4630-1689753600-1689771600@easternoutdoorexperiences.com
SUMMARY:Private Group Nature Walk
DESCRIPTION:Nature Walk \n\n\n\nWe can arrange special events for your organization. Contact Ed for more information. \n\n\n\n\nContact\n\n\n\n\n\n\n\n\n\n\n\nShare this:\n				Share on X (Opens in new window)\n				X\n			\n				Share on Facebook (Opens in new window)\n				Facebook
URL:https://easternoutdoorexperiences.com/event/private-group-nature-walk/
ATTACH;FMTTYPE=image/jpeg:https://easternoutdoorexperiences.com/wp-content/uploads/2023/05/20220927_103512.jpg
END:VEVENT
BEGIN:VEVENT
DTSTART;TZID=America/New_York:20230722T080000
DTEND;TZID=America/New_York:20230723T170000
DTSTAMP:20260424T174537
CREATED:20230609T234509Z
LAST-MODIFIED:20230609T235350Z
UID:4714-1690012800-1690131600@easternoutdoorexperiences.com
SUMMARY:Beginner Group Backpacking
DESCRIPTION:Our Catskill Backpacking experience is a fully guided overnight small group hiking and camping trip that is ideal for beginners and novices. This fun and hands-on experience will focus on teaching backcountry fundamentals in a small group setting. \n\n\n\nClick here for more details \n\n\n\n\nDetails\n\n\n\n\n\n\n\n\nReserve Now: \n\n\n\n\nReserve\n\n\n\n\n\n\n\n\n\n\n\n\nWe can arrange backpacks and private special events for your group. Contact Ed for more information. \n\n\n\n\nContact\n\n\n\n\n\n\n\n\n\n\n\nShare this:\n				Share on X (Opens in new window)\n				X\n			\n				Share on Facebook (Opens in new window)\n				Facebook
URL:https://easternoutdoorexperiences.com/event/20230722-beginner-group-backpacking/
ATTACH;FMTTYPE=image/jpeg:https://easternoutdoorexperiences.com/wp-content/uploads/2018/05/60819-Backpacking-009.jpg
END:VEVENT
BEGIN:VEVENT
DTSTART;TZID=America/New_York:20230724T190000
DTEND;TZID=America/New_York:20230724T200000
DTSTAMP:20260424T174537
CREATED:20230503T224228Z
LAST-MODIFIED:20230503T224230Z
UID:4584-1690225200-1690228800@easternoutdoorexperiences.com
SUMMARY:Hiking Safety
DESCRIPTION:Intro to hiking safety class.   \n\n\n\nWe can arrange classes and special events for your organization. Contact Ed for more information. \n\n\n\n\nContact\n\n\n\n\n\n\n\n\n\n\n\nShare this:\n				Share on X (Opens in new window)\n				X\n			\n				Share on Facebook (Opens in new window)\n				Facebook
URL:https://easternoutdoorexperiences.com/event/20230724-hiking-safety/
ATTACH;FMTTYPE=image/jpeg:https://easternoutdoorexperiences.com/wp-content/uploads/2023/05/20220811_114353-Windham.jpg
END:VEVENT
BEGIN:VEVENT
DTSTART;TZID=America/New_York:20230728T080000
DTEND;TZID=America/New_York:20230730T170000
DTSTAMP:20260424T174537
CREATED:20230315T203628Z
LAST-MODIFIED:20230315T203630Z
UID:4497-1690531200-1690736400@easternoutdoorexperiences.com
SUMMARY:NYSOGA Summer Rendezvous
DESCRIPTION:Share this:\n				Share on X (Opens in new window)\n				X\n			\n				Share on Facebook (Opens in new window)\n				Facebook
URL:https://easternoutdoorexperiences.com/event/2023-summer-rendezvous/
ATTACH;FMTTYPE=image/png:https://easternoutdoorexperiences.com/wp-content/uploads/2018/05/NYSOGAshapeimage_2.png
END:VEVENT
BEGIN:VEVENT
DTSTART;TZID=America/New_York:20230731T190000
DTEND;TZID=America/New_York:20230731T200000
DTSTAMP:20260424T174537
CREATED:20230504T003249Z
LAST-MODIFIED:20230713T173920Z
UID:4587-1690830000-1690833600@easternoutdoorexperiences.com
SUMMARY:Intro to Wilderness Survival
DESCRIPTION:Wilderness survival teaches the skills to hopefully avoid\, but when necessary manage emergency situations to help you to survive them. \n\n\n\nWe can arrange classes and special events for your organization. Contact Ed for more information. \n\n\n\n\nContact\n\n\n\n\n\n\n\n\n\n\n\nShare this:\n				Share on X (Opens in new window)\n				X\n			\n				Share on Facebook (Opens in new window)\n				Facebook
URL:https://easternoutdoorexperiences.com/event/20230731-intro-to-wilderness-survival/
ATTACH;FMTTYPE=image/jpeg:https://easternoutdoorexperiences.com/wp-content/uploads/2023/05/20220331_104742-survivalShelter-s400.jpg
END:VEVENT
END:VCALENDAR