BEGIN:VCALENDAR
VERSION:2.0
PRODID:-//Eastern Outdoor Experiences - ECPv6.15.18//NONSGML v1.0//EN
CALSCALE:GREGORIAN
METHOD:PUBLISH
X-WR-CALNAME:Eastern Outdoor Experiences
X-ORIGINAL-URL:https://easternoutdoorexperiences.com
X-WR-CALDESC:Events for Eastern Outdoor Experiences
REFRESH-INTERVAL;VALUE=DURATION:PT1H
X-Robots-Tag:noindex
X-PUBLISHED-TTL:PT1H
BEGIN:VTIMEZONE
TZID:America/New_York
BEGIN:DAYLIGHT
TZOFFSETFROM:-0500
TZOFFSETTO:-0400
TZNAME:EDT
DTSTART:20220313T070000
END:DAYLIGHT
BEGIN:STANDARD
TZOFFSETFROM:-0400
TZOFFSETTO:-0500
TZNAME:EST
DTSTART:20221106T060000
END:STANDARD
BEGIN:DAYLIGHT
TZOFFSETFROM:-0500
TZOFFSETTO:-0400
TZNAME:EDT
DTSTART:20230312T070000
END:DAYLIGHT
BEGIN:STANDARD
TZOFFSETFROM:-0400
TZOFFSETTO:-0500
TZNAME:EST
DTSTART:20231105T060000
END:STANDARD
BEGIN:DAYLIGHT
TZOFFSETFROM:-0500
TZOFFSETTO:-0400
TZNAME:EDT
DTSTART:20240310T070000
END:DAYLIGHT
BEGIN:STANDARD
TZOFFSETFROM:-0400
TZOFFSETTO:-0500
TZNAME:EST
DTSTART:20241103T060000
END:STANDARD
END:VTIMEZONE
BEGIN:VEVENT
DTSTART;TZID=America/New_York:20230810T080000
DTEND;TZID=America/New_York:20230810T170000
DTSTAMP:20260424T114319
CREATED:20230610T234834Z
LAST-MODIFIED:20230611T000919Z
UID:4722-1691654400-1691686800@easternoutdoorexperiences.com
SUMMARY:Fir and Big Indian Mountains
DESCRIPTION:Fir and Big Indian are two of the trail-less peaks on the Catskill 3500 list.  Both summits have canisters containing a sign-in log book.  This all-day hike will cover 11 miles with 2600 feet of elevation gain and includes water crossings (which are usually low in August).  We’ll have fun navigating several miles of off-trail wilderness\, but the final miles downhill on the trail usually seem longer for some reason.  We’ll need to keep a steady pace to complete this hike in the allotted time.  This is a challenging hike. \n\n\n\nThis hike is being presented in conjunction with the Adirondack Mountain Club. We strongly encourage you to consider joining the ADK. \n\n\n\nContact Ed to reserve your spot. Please share a sentence or two about your recent hiking experience. \n\n\n\n\nContact\n\n\n\n\n\n\n\n\n\n\n\n\n\n\n\n\nAbout our social series:Ed is an avid hiker with a long tradition of giving back to the hiking community by leading free guided hikes for clubs and friends of Eastern Outdoor Experiences. There is never a charge for these hikes and all sufficiently fit hikers are welcome to join. If you’re not sure of your ability to do a hike\, call us and ask. Use the contact form to request our newsletter so that you can be informed of more upcoming hikes and events\, as well as useful advice for outdoor enthusiasts. \n\n\n\nHopefully you can join in this or other hikes in our 2023 Catskill Social series or in some of our fully guided Catskill offerings: \n\n\n\n\n\n\n\n\nCatskill 3500 Experiences\n\n\n\n\n\n\n\n\n\n\n\nShare this:\n				Share on X (Opens in new window)\n				X\n			\n				Share on Facebook (Opens in new window)\n				Facebook
URL:https://easternoutdoorexperiences.com/event/20230810-fir-and-big-indian-mountains/
ATTACH;FMTTYPE=image/jpeg:https://easternoutdoorexperiences.com/wp-content/uploads/2023/06/20220915_130406-Big-Indian-can-s400.jpg
END:VEVENT
BEGIN:VEVENT
DTSTART;TZID=America/New_York:20230813T080000
DTEND;TZID=America/New_York:20230813T170000
DTSTAMP:20260424T114319
CREATED:20230323T181943Z
LAST-MODIFIED:20230421T023311Z
UID:4516-1691913600-1691946000@easternoutdoorexperiences.com
SUMMARY:SAR
DESCRIPTION:Share this:\n				Share on X (Opens in new window)\n				X\n			\n				Share on Facebook (Opens in new window)\n				Facebook
URL:https://easternoutdoorexperiences.com/event/20230812/
END:VEVENT
BEGIN:VEVENT
DTSTART;TZID=America/New_York:20230819T080000
DTEND;TZID=America/New_York:20230820T170000
DTSTAMP:20260424T114319
CREATED:20230609T235229Z
LAST-MODIFIED:20230609T235551Z
UID:4718-1692432000-1692550800@easternoutdoorexperiences.com
SUMMARY:Beginner Group Backpacking
DESCRIPTION:Our Catskill Backpacking experience is a fully guided overnight small group hiking and camping trip that is ideal for beginners and novices. This fun and hands-on experience will focus on teaching backcountry fundamentals in a small group setting. \n\n\n\nClick here for more details \n\n\n\n\nDetails\n\n\n\n\n\n\n\n\nReserve Now: \n\n\n\n\nReserve\n\n\n\n\n\n\n\n\n\n\n\n\nWe can arrange backpacks and private special events for your group. Contact Ed for more information. \n\n\n\n\nContact\n\n\n\n\n\n\n\n\n\n\n\nShare this:\n				Share on X (Opens in new window)\n				X\n			\n				Share on Facebook (Opens in new window)\n				Facebook
URL:https://easternoutdoorexperiences.com/event/20230819-beginner-group-backpacking/
CATEGORIES:Beginner Backpack
ATTACH;FMTTYPE=image/jpeg:https://easternoutdoorexperiences.com/wp-content/uploads/2023/02/20221023_100554-2-backpack.jpg
END:VEVENT
BEGIN:VEVENT
DTSTART;TZID=America/New_York:20230822T080000
DTEND;TZID=America/New_York:20230824T170000
DTSTAMP:20260424T114319
CREATED:20220925T170224Z
LAST-MODIFIED:20230801T124210Z
UID:4256-1692691200-1692896400@easternoutdoorexperiences.com
SUMMARY:Adirondack Backpack
DESCRIPTION:Private Group.  Adirondack High Peaks \n\n\n\nWhether peak-bagging\, sight seeing\, or learning to backpack\, we arrange special experiences for groups and individuals. Contact Ed for more information or to schedule your guided hiking and backpacking trips.  We backpack in the beautiful mountains of New York from the Adirondacks to the Catskills to Harriman. Contact Ed for more information. \n\n\n\n\nLet’s Go!\n\n\n\n\nCheck out some photos of past trips: \n\n\n\nhttps://photos.app.goo.gl/BWRmnwJfd3VgTCT76 \n\n\n\nhttps://photos.app.goo.gl/uLmeJWTFUBUmTKfi6 \n\n\n\nhttps://photos.app.goo.gl/sn4YMtGewPpcguo48 \n\n\n\nhttps://photos.app.goo.gl/qVxoHTLM5wZnPbn68 \n\n\n\n\n\n\n\n\n\n\n\n\n\n\nShare this:\n				Share on X (Opens in new window)\n				X\n			\n				Share on Facebook (Opens in new window)\n				Facebook
URL:https://easternoutdoorexperiences.com/event/20230706/
ATTACH;FMTTYPE=image/jpeg:https://easternoutdoorexperiences.com/wp-content/uploads/2022/09/20220823_111103es400Backpack.jpg
END:VEVENT
END:VCALENDAR