BEGIN:VCALENDAR
VERSION:2.0
PRODID:-//Eastern Outdoor Experiences - ECPv6.15.18//NONSGML v1.0//EN
CALSCALE:GREGORIAN
METHOD:PUBLISH
X-ORIGINAL-URL:https://easternoutdoorexperiences.com
X-WR-CALDESC:Events for Eastern Outdoor Experiences
REFRESH-INTERVAL;VALUE=DURATION:PT1H
X-Robots-Tag:noindex
X-PUBLISHED-TTL:PT1H
BEGIN:VTIMEZONE
TZID:America/New_York
BEGIN:DAYLIGHT
TZOFFSETFROM:-0500
TZOFFSETTO:-0400
TZNAME:EDT
DTSTART:20220313T070000
END:DAYLIGHT
BEGIN:STANDARD
TZOFFSETFROM:-0400
TZOFFSETTO:-0500
TZNAME:EST
DTSTART:20221106T060000
END:STANDARD
BEGIN:DAYLIGHT
TZOFFSETFROM:-0500
TZOFFSETTO:-0400
TZNAME:EDT
DTSTART:20230312T070000
END:DAYLIGHT
BEGIN:STANDARD
TZOFFSETFROM:-0400
TZOFFSETTO:-0500
TZNAME:EST
DTSTART:20231105T060000
END:STANDARD
BEGIN:DAYLIGHT
TZOFFSETFROM:-0500
TZOFFSETTO:-0400
TZNAME:EDT
DTSTART:20240310T070000
END:DAYLIGHT
BEGIN:STANDARD
TZOFFSETFROM:-0400
TZOFFSETTO:-0500
TZNAME:EST
DTSTART:20241103T060000
END:STANDARD
END:VTIMEZONE
BEGIN:VEVENT
DTSTART;TZID=America/New_York:20230908T080000
DTEND;TZID=America/New_York:20230910T170000
DTSTAMP:20260424T190051
CREATED:20230828T043534Z
LAST-MODIFIED:20230828T043627Z
UID:5365-1694160000-1694365200@easternoutdoorexperiences.com
SUMMARY:Adirondack High Peaks Backpack
DESCRIPTION:Private Group.  Adirondack High Peaks.  \n\n\n\nWhether peak-bagging\, sight seeing\, or learning to backpack\, we arrange special experiences for groups and individuals. Contact Ed for more information or to schedule your guided hiking and backpacking trips.  We backpack in the beautiful mountains of New York from the Adirondacks to the Catskills to Harriman. Contact Ed for more information. \n\n\n\n\nLet’s Go!\n\n\n\n\nCheck out some photos of past trips: \n\n\n\nhttps://photos.app.goo.gl/qVxoHTLM5wZnPbn68 \n\n\n\nhttps://photos.app.goo.gl/sn4YMtGewPpcguo48 \n\n\n\n\n\n\n\n\n\n\n\n\n\n\nShare this:\n				Share on X (Opens in new window)\n				X\n			\n				Share on Facebook (Opens in new window)\n				Facebook
URL:https://easternoutdoorexperiences.com/event/20230908-adirondack-high-peaks-backpack/
ATTACH;FMTTYPE=image/jpeg:https://easternoutdoorexperiences.com/wp-content/uploads/2023/08/20190921_094514-Skylight.jpg
END:VEVENT
BEGIN:VEVENT
DTSTART;TZID=America/New_York:20230916T080000
DTEND;TZID=America/New_York:20230917T170000
DTSTAMP:20260424T190051
CREATED:20230323T182309Z
LAST-MODIFIED:20230323T182310Z
UID:4518-1694851200-1694970000@easternoutdoorexperiences.com
SUMMARY:SAR
DESCRIPTION:Share this:\n				Share on X (Opens in new window)\n				X\n			\n				Share on Facebook (Opens in new window)\n				Facebook
URL:https://easternoutdoorexperiences.com/event/20230916/
END:VEVENT
BEGIN:VEVENT
DTSTART;TZID=America/New_York:20230920T120000
DTEND;TZID=America/New_York:20230920T170000
DTSTAMP:20260424T190051
CREATED:20230808T042246Z
LAST-MODIFIED:20230808T042247Z
UID:5302-1695211200-1695229200@easternoutdoorexperiences.com
SUMMARY:Private Group Hike
DESCRIPTION:Nature Walk/hike \n\n\n\nWe can arrange special events for your organization. Contact Ed for more information. \n\n\n\n\nContact\n\n\n\n\n\n\n\n\n\n\n\nShare this:\n				Share on X (Opens in new window)\n				X\n			\n				Share on Facebook (Opens in new window)\n				Facebook
URL:https://easternoutdoorexperiences.com/event/20230920-private-group-hike/
ATTACH;FMTTYPE=image/jpeg:https://easternoutdoorexperiences.com/wp-content/uploads/2023/08/20211023_111405ce-privateGroup.jpg
END:VEVENT
BEGIN:VEVENT
DTSTART;TZID=America/New_York:20230930T080000
DTEND;TZID=America/New_York:20231001T170000
DTSTAMP:20260424T190051
CREATED:20230610T000143Z
LAST-MODIFIED:20230803T035935Z
UID:4720-1696060800-1696179600@easternoutdoorexperiences.com
SUMMARY:Wilderness First Aid
DESCRIPTION:Instructor – WFA \n\n\n\nSee 3500 Club website for details:  http://catskill-3500-club.org/ \n\n\n\n\n\n\n\n\n\n\nShare this:\n				Share on X (Opens in new window)\n				X\n			\n				Share on Facebook (Opens in new window)\n				Facebook
URL:https://easternoutdoorexperiences.com/event/20230923-wilderness-first-aid/
ATTACH;FMTTYPE=image/png:https://easternoutdoorexperiences.com/wp-content/uploads/2020/01/3500_Club_logo.png
END:VEVENT
END:VCALENDAR