BEGIN:VCALENDAR
VERSION:2.0
PRODID:-//Eastern Outdoor Experiences - ECPv6.15.18//NONSGML v1.0//EN
CALSCALE:GREGORIAN
METHOD:PUBLISH
X-WR-CALNAME:Eastern Outdoor Experiences
X-ORIGINAL-URL:https://easternoutdoorexperiences.com
X-WR-CALDESC:Events for Eastern Outdoor Experiences
REFRESH-INTERVAL;VALUE=DURATION:PT1H
X-Robots-Tag:noindex
X-PUBLISHED-TTL:PT1H
BEGIN:VTIMEZONE
TZID:America/New_York
BEGIN:DAYLIGHT
TZOFFSETFROM:-0500
TZOFFSETTO:-0400
TZNAME:EDT
DTSTART:20220313T070000
END:DAYLIGHT
BEGIN:STANDARD
TZOFFSETFROM:-0400
TZOFFSETTO:-0500
TZNAME:EST
DTSTART:20221106T060000
END:STANDARD
BEGIN:DAYLIGHT
TZOFFSETFROM:-0500
TZOFFSETTO:-0400
TZNAME:EDT
DTSTART:20230312T070000
END:DAYLIGHT
BEGIN:STANDARD
TZOFFSETFROM:-0400
TZOFFSETTO:-0500
TZNAME:EST
DTSTART:20231105T060000
END:STANDARD
BEGIN:DAYLIGHT
TZOFFSETFROM:-0500
TZOFFSETTO:-0400
TZNAME:EDT
DTSTART:20240310T070000
END:DAYLIGHT
BEGIN:STANDARD
TZOFFSETFROM:-0400
TZOFFSETTO:-0500
TZNAME:EST
DTSTART:20241103T060000
END:STANDARD
END:VTIMEZONE
BEGIN:VEVENT
DTSTART;TZID=America/New_York:20231105T140000
DTEND;TZID=America/New_York:20231105T153000
DTSTAMP:20260424T115123
CREATED:20230713T173642Z
LAST-MODIFIED:20230808T034158Z
UID:5123-1699192800-1699198200@easternoutdoorexperiences.com
SUMMARY:Intro to Wilderness Survival - part 1
DESCRIPTION:Wilderness survival teaches the skills to hopefully avoid\, but when necessary manage emergency situations to help you to survive them. \n\n\n\nWe can arrange classes and special events for your organization. Contact Ed for more information. \n\n\n\n\nContact\n\n\n\n\n\n\n\n\n\n\n\nShare this:\n				Share on X (Opens in new window)\n				X\n			\n				Share on Facebook (Opens in new window)\n				Facebook
URL:https://easternoutdoorexperiences.com/event/20231022-intro-to-wilderness-survival/
ATTACH;FMTTYPE=image/jpeg:https://easternoutdoorexperiences.com/wp-content/uploads/2019/05/20180919_195210-e1c1s675x380.jpg
END:VEVENT
BEGIN:VEVENT
DTSTART;TZID=America/New_York:20231111T080000
DTEND;TZID=America/New_York:20231112T170000
DTSTAMP:20260424T115123
CREATED:20230713T175334Z
LAST-MODIFIED:20230713T175336Z
UID:5125-1699689600-1699808400@easternoutdoorexperiences.com
SUMMARY:Wilderness First Aid\, Long Island\, NY
DESCRIPTION:Wilderness First Aid and CPR certification course for hike leaders.  Details TBA \n\n\n\nContact us to schedule training classes for your organization. \n\n\n\n\n\n\nCourse Description\n\n\n\n\n\n\n\nContact us for more information\n\n\n\n\n\n\n\n\n\n\n\n\n\n\n\n\n\n\n\n\n\n\n\n\n\nShare this:\n				Share on X (Opens in new window)\n				X\n			\n				Share on Facebook (Opens in new window)\n				Facebook
URL:https://easternoutdoorexperiences.com/event/20231111-wilderness-first-aid-long-island-ny/
ATTACH;FMTTYPE=image/jpeg:https://easternoutdoorexperiences.com/wp-content/uploads/2023/02/20230112_152845s400-WFA.jpg
END:VEVENT
BEGIN:VEVENT
DTSTART;TZID=America/New_York:20231114T120000
DTEND;TZID=America/New_York:20231114T160000
DTSTAMP:20260424T115123
CREATED:20230808T044137Z
LAST-MODIFIED:20231109T181350Z
UID:5308-1699963200-1699977600@easternoutdoorexperiences.com
SUMMARY:Private Group Hike
DESCRIPTION:Nature Walk/hike \n\n\n\nWe can arrange special events for your organization. Contact Ed for more information. \n\n\n\n\nContact\n\n\n\n\n\n\n\n\n\n\n\nShare this:\n				Share on X (Opens in new window)\n				X\n			\n				Share on Facebook (Opens in new window)\n				Facebook
URL:https://easternoutdoorexperiences.com/event/20231114-private-group-hike/
ATTACH;FMTTYPE=image/jpeg:https://easternoutdoorexperiences.com/wp-content/uploads/2018/12/20161126_102437s450x253.jpg
END:VEVENT
BEGIN:VEVENT
DTSTART;TZID=America/New_York:20231114T193000
DTEND;TZID=America/New_York:20231114T210000
DTSTAMP:20260424T115123
CREATED:20231109T183419Z
LAST-MODIFIED:20231109T184521Z
UID:5717-1699990200-1699995600@easternoutdoorexperiences.com
SUMMARY:Wilderness Survival Basics
DESCRIPTION:I’ll be presenting an overview of Wilderness Survival Basics at the Adirondack Mountain Club – Long Island Chapter monthly membership meeting. For more information\, check the ADKLI website: https://www.adkli.org/ \n\n\n\nWilderness survival refers to managing a short-term emergency and is focused on staying alive until you are able to return to civilization.  Survival techniques require improvisation with the tools you have available.  Topics covered will include planning and preparedness\, mind and attitude\, survival priorities and skills.  \n\n\n\n\n\n\n\nI hope you can join us at the November ADK-LI meeting\, which is free to attendees. Contact us for more information or to schedule a program for your group: \n\n\n\n\nContact us \n\n\n\n\n\n\n\n\n\n\n\nShare this:\n				Share on X (Opens in new window)\n				X\n			\n				Share on Facebook (Opens in new window)\n				Facebook
URL:https://easternoutdoorexperiences.com/event/20231114-wilderness-survival-basics/
ATTACH;FMTTYPE=image/jpeg:https://easternoutdoorexperiences.com/wp-content/uploads/2023/11/20231105_151748e1c1s400-Tarp-Survival-Shelter.jpg
END:VEVENT
BEGIN:VEVENT
DTSTART;TZID=America/New_York:20231116T080000
DTEND;TZID=America/New_York:20231116T170000
DTSTAMP:20260424T115123
CREATED:20230928T191750Z
LAST-MODIFIED:20240202T045936Z
UID:5498-1700121600-1700154000@easternoutdoorexperiences.com
SUMMARY:Wittenberg and Cornell Mountains
DESCRIPTION:These two summits\, rising to elevations up to 3857 feet\, feature steep climbing and scrambling to some of the most classic Catskill views.   If you like scrambling on Catskill ledges\, this is the hike for you.  In addition to the the famous “Cornell crack”\, there are many opportunities to go up and down ledges using both your hands and your feet.  At 9.4 miles with 3100 feet of elevation gain this is a challenging but very rewarding hike. \n\n\n\nThis hike is being presented in conjunction with the Adirondack Mountain Club and the Catskill 3500 Club. We strongly encourage you to consider joining these worthy organizations. \n\n\n\nContact Ed to reserve your spot. Please share a sentence or two about your recent hiking experience. \n\n\n\n\n\n\n\n\nContact / Register\n\n\n\n\n\n\n\n\n\n\n\n\nAbout our social series:Ed is an avid hiker with a long tradition of giving back to the hiking community by leading free guided hikes for clubs and friends of Eastern Outdoor Experiences. There is never a charge for these hikes and all sufficiently fit hikers are welcome to join. If you’re not sure of your ability to do a hike\, call us and ask. Use the contact form to request our newsletter so that you can be informed of more upcoming hikes and events\, as well as useful advice for outdoor enthusiasts. \n\n\n\n\nCatskill 3500 Experiences\n\n\n\n\n\n\n\n\n\n\n\nShare this:\n				Share on X (Opens in new window)\n				X\n			\n				Share on Facebook (Opens in new window)\n				Facebook
URL:https://easternoutdoorexperiences.com/event/20231116-wittenberg-and-cornell-mountains/
CATEGORIES:Free Hike
ATTACH;FMTTYPE=image/jpeg:https://easternoutdoorexperiences.com/wp-content/uploads/2023/09/910Wittenberg-Cornell-Slide-029s.jpg
END:VEVENT
END:VCALENDAR