BEGIN:VCALENDAR
VERSION:2.0
PRODID:-//Eastern Outdoor Experiences - ECPv6.15.18//NONSGML v1.0//EN
CALSCALE:GREGORIAN
METHOD:PUBLISH
X-WR-CALNAME:Eastern Outdoor Experiences
X-ORIGINAL-URL:https://easternoutdoorexperiences.com
X-WR-CALDESC:Events for Eastern Outdoor Experiences
REFRESH-INTERVAL;VALUE=DURATION:PT1H
X-Robots-Tag:noindex
X-PUBLISHED-TTL:PT1H
BEGIN:VTIMEZONE
TZID:America/New_York
BEGIN:DAYLIGHT
TZOFFSETFROM:-0500
TZOFFSETTO:-0400
TZNAME:EDT
DTSTART:20230312T070000
END:DAYLIGHT
BEGIN:STANDARD
TZOFFSETFROM:-0400
TZOFFSETTO:-0500
TZNAME:EST
DTSTART:20231105T060000
END:STANDARD
BEGIN:DAYLIGHT
TZOFFSETFROM:-0500
TZOFFSETTO:-0400
TZNAME:EDT
DTSTART:20240310T070000
END:DAYLIGHT
BEGIN:STANDARD
TZOFFSETFROM:-0400
TZOFFSETTO:-0500
TZNAME:EST
DTSTART:20241103T060000
END:STANDARD
BEGIN:DAYLIGHT
TZOFFSETFROM:-0500
TZOFFSETTO:-0400
TZNAME:EDT
DTSTART:20250309T070000
END:DAYLIGHT
BEGIN:STANDARD
TZOFFSETFROM:-0400
TZOFFSETTO:-0500
TZNAME:EST
DTSTART:20251102T060000
END:STANDARD
END:VTIMEZONE
BEGIN:VEVENT
DTSTART;TZID=America/New_York:20240508T080000
DTEND;TZID=America/New_York:20240508T170000
DTSTAMP:20260423T185452
CREATED:20240321T221124Z
LAST-MODIFIED:20251007T180056Z
UID:6698-1715155200-1715187600@easternoutdoorexperiences.com
SUMMARY:Rusk\, Hunter and Southwest Hunter
DESCRIPTION:Our May social series hike is an ambitious loop of Rusk\, Hunter\, and Southwest Hunter Mountains. We’ll find the canisters on Rusk and Southwest Hunter and visit the fire tower on Hunter Mountain. We’ll need to move at a moderate to brisk pace to complete this hike of 12 miles with over 3700 feet of elevation gain. This hike is for strong hikers in good shape. \n\n\n\nThis hike is being presented in conjunction with the Adirondack Mountain Club and the Catskill 3500 Club. We strongly encourage you to consider joining these worthy organizations. \n\n\n\nContact Ed to reserve your spot on this challenging hike. Please share a sentence or two about your recent hiking experience. \n\n\n\n\nContact\n\n\n\n\n\n\n\n\n\n\n\n\nAbout our social series:Ed is an avid hiker with a long tradition of giving back to the hiking community by leading free guided hikes for clubs and friends of Eastern Outdoor Experiences. There is never a charge for these hikes and all sufficiently fit hikers are welcome to join. If you’re not sure of your ability to do a hike\, call us and ask. Use the contact form to request our newsletter so that you can be informed of more upcoming hikes and events\, as well as useful advice for outdoor enthusiasts. \n\n\n\nHopefully you can join in this or other hikes in our 2024 Catskill Social series or in some of our fully guided Catskill offerings: \n\n\n\n\nCatskill 3500 Experiences\n\n\n\n\n\n\n\n\n\n\n\nShare this:\n				Share on X (Opens in new window)\n				X\n			\n				Share on Facebook (Opens in new window)\n				Facebook
URL:https://easternoutdoorexperiences.com/event/20240508-rusk-hunter-sw/
ATTACH;FMTTYPE=image/jpeg:https://easternoutdoorexperiences.com/wp-content/uploads/2020/03/HunterTower.jpg
END:VEVENT
BEGIN:VEVENT
DTSTART;TZID=America/New_York:20240514T080000
DTEND;TZID=America/New_York:20240514T170000
DTSTAMP:20260423T185452
CREATED:20240207T175520Z
LAST-MODIFIED:20240214T185551Z
UID:6295-1715673600-1715706000@easternoutdoorexperiences.com
SUMMARY:Private Group Hike
DESCRIPTION:Nature Walk/hike \n\n\n\nWe can arrange special events for your organization. Contact Ed for more information. \n\n\n\n\nContact\n\n\n\n\n\n\n\n\n\n\n\nShare this:\n				Share on X (Opens in new window)\n				X\n			\n				Share on Facebook (Opens in new window)\n				Facebook
URL:https://easternoutdoorexperiences.com/event/20240514-private-group-hike/
ATTACH;FMTTYPE=image/jpeg:https://easternoutdoorexperiences.com/wp-content/uploads/2024/02/20230701_112710-Blydenburgh.jpg
END:VEVENT
END:VCALENDAR