BEGIN:VCALENDAR
VERSION:2.0
PRODID:-//Eastern Outdoor Experiences - ECPv6.15.18//NONSGML v1.0//EN
CALSCALE:GREGORIAN
METHOD:PUBLISH
X-WR-CALNAME:Eastern Outdoor Experiences
X-ORIGINAL-URL:https://easternoutdoorexperiences.com
X-WR-CALDESC:Events for Eastern Outdoor Experiences
REFRESH-INTERVAL;VALUE=DURATION:PT1H
X-Robots-Tag:noindex
X-PUBLISHED-TTL:PT1H
BEGIN:VTIMEZONE
TZID:America/New_York
BEGIN:DAYLIGHT
TZOFFSETFROM:-0500
TZOFFSETTO:-0400
TZNAME:EDT
DTSTART:20230312T070000
END:DAYLIGHT
BEGIN:STANDARD
TZOFFSETFROM:-0400
TZOFFSETTO:-0500
TZNAME:EST
DTSTART:20231105T060000
END:STANDARD
BEGIN:DAYLIGHT
TZOFFSETFROM:-0500
TZOFFSETTO:-0400
TZNAME:EDT
DTSTART:20240310T070000
END:DAYLIGHT
BEGIN:STANDARD
TZOFFSETFROM:-0400
TZOFFSETTO:-0500
TZNAME:EST
DTSTART:20241103T060000
END:STANDARD
BEGIN:DAYLIGHT
TZOFFSETFROM:-0500
TZOFFSETTO:-0400
TZNAME:EDT
DTSTART:20250309T070000
END:DAYLIGHT
BEGIN:STANDARD
TZOFFSETFROM:-0400
TZOFFSETTO:-0500
TZNAME:EST
DTSTART:20251102T060000
END:STANDARD
END:VTIMEZONE
BEGIN:VEVENT
DTSTART;TZID=America/New_York:20240814T080000
DTEND;TZID=America/New_York:20240814T170000
DTSTAMP:20260423T080929
CREATED:20240620T043402Z
LAST-MODIFIED:20240620T043403Z
UID:7294-1723622400-1723654800@easternoutdoorexperiences.com
SUMMARY:Fir and Big Indian Mountain
DESCRIPTION:This one has everything; trails\, water crossings\, and miles of bushwhacking in remote wilderness.  For adventurous and fit hikers\, we’ll cover 10.5 miles and 2700 feet of elevation gain to find the canisters on the summits of Fir and Big Indian Mountains.  The stretch between Fir and Big Indian is one of my favorites where the navigation can be tricky\, even with the presence of herd paths. \n\n\n\nThis hike is being presented in conjunction with the Catskill 3500 Club and the Adirondack Mountain Club. We strongly encourage you to join one or both of these clubs. \n\n\n\nContact Ed to reserve your spot on this fun\, but challenging hike. Please share a sentence or two about your recent hiking experience. \n\n\n\nContact \n\n\n\n\n\n\n\nAbout our social series:Ed is an avid hiker with a long tradition of giving back to the hiking community by leading free guided hikes for clubs and friends of Eastern Outdoor Experiences. There is never a charge for these hikes and all sufficiently fit hikers are welcome to join. If you’re not sure of your ability to do a hike\, call us and ask. Use the contact form to request our newsletter so that you can be informed of more upcoming hikes and events\, as well as useful advice for outdoor enthusiasts. \n\n\n\nHopefully you can join in this or other hikes in our 2024 Catskill Social series or in some of our fully guided Catskill offerings: \n\n\n\n\nCatskill 3500 Experiences\n\n\n\n\n\n\n\n\n\n\n\nShare this:\n				Share on X (Opens in new window)\n				X\n			\n				Share on Facebook (Opens in new window)\n				Facebook
URL:https://easternoutdoorexperiences.com/event/20240814-fir-and-big-indian-mountain/
ATTACH;FMTTYPE=image/jpeg:https://easternoutdoorexperiences.com/wp-content/uploads/2023/06/20220915_130406-Big-Indian-can-s400.jpg
END:VEVENT
BEGIN:VEVENT
DTSTART;TZID=America/New_York:20240820T100000
DTEND;TZID=America/New_York:20240820T120000
DTSTAMP:20260423T080929
CREATED:20240509T184201Z
LAST-MODIFIED:20240509T184202Z
UID:6983-1724148000-1724155200@easternoutdoorexperiences.com
SUMMARY:Private Group Hike
DESCRIPTION:Nature Walk/hike \n\n\n\nWe can arrange special events for your organization. Contact Ed for more information. \n\n\n\nContact \n\n\n\n\n\n\n\n\n\n\n\n\n\n\nShare this:\n				Share on X (Opens in new window)\n				X\n			\n				Share on Facebook (Opens in new window)\n				Facebook
URL:https://easternoutdoorexperiences.com/event/20240820-private-group-hike/
ATTACH;FMTTYPE=image/jpeg:https://easternoutdoorexperiences.com/wp-content/uploads/2024/05/20230919_154921CB.jpg
END:VEVENT
END:VCALENDAR