BEGIN:VCALENDAR
VERSION:2.0
PRODID:-//Eastern Outdoor Experiences - ECPv6.15.18//NONSGML v1.0//EN
CALSCALE:GREGORIAN
METHOD:PUBLISH
X-ORIGINAL-URL:https://easternoutdoorexperiences.com
X-WR-CALDESC:Events for Eastern Outdoor Experiences
REFRESH-INTERVAL;VALUE=DURATION:PT1H
X-Robots-Tag:noindex
X-PUBLISHED-TTL:PT1H
BEGIN:VTIMEZONE
TZID:America/New_York
BEGIN:DAYLIGHT
TZOFFSETFROM:-0500
TZOFFSETTO:-0400
TZNAME:EDT
DTSTART:20230312T070000
END:DAYLIGHT
BEGIN:STANDARD
TZOFFSETFROM:-0400
TZOFFSETTO:-0500
TZNAME:EST
DTSTART:20231105T060000
END:STANDARD
BEGIN:DAYLIGHT
TZOFFSETFROM:-0500
TZOFFSETTO:-0400
TZNAME:EDT
DTSTART:20240310T070000
END:DAYLIGHT
BEGIN:STANDARD
TZOFFSETFROM:-0400
TZOFFSETTO:-0500
TZNAME:EST
DTSTART:20241103T060000
END:STANDARD
BEGIN:DAYLIGHT
TZOFFSETFROM:-0500
TZOFFSETTO:-0400
TZNAME:EDT
DTSTART:20250309T070000
END:DAYLIGHT
BEGIN:STANDARD
TZOFFSETFROM:-0400
TZOFFSETTO:-0500
TZNAME:EST
DTSTART:20251102T060000
END:STANDARD
END:VTIMEZONE
BEGIN:VEVENT
DTSTART;TZID=America/New_York:20241107T080000
DTEND;TZID=America/New_York:20241107T170000
DTSTAMP:20260422T205915
CREATED:20240927T053748Z
LAST-MODIFIED:20240927T053917Z
UID:8100-1730966400-1730998800@easternoutdoorexperiences.com
SUMMARY:Private Group Hike
DESCRIPTION:Nature Walk/hike on Long Island.   \n\n\n\nWe can arrange special events for your organization. Contact Ed for more information. \n\n\n\nContact \n\n\n\n\n\n\n\n\n\n\n\n\n\n\nShare this:\n				Share on X (Opens in new window)\n				X\n			\n				Share on Facebook (Opens in new window)\n				Facebook
URL:https://easternoutdoorexperiences.com/event/20241107-private-group-hike/
ATTACH;FMTTYPE=image/jpeg:https://easternoutdoorexperiences.com/wp-content/uploads/2024/09/20231114_142614-Laurel.jpg
END:VEVENT
BEGIN:VEVENT
DTSTART;TZID=America/New_York:20241123T000000
DTEND;TZID=America/New_York:20241124T235959
DTSTAMP:20260422T205916
CREATED:20211102T190007Z
LAST-MODIFIED:20241112T055824Z
UID:3633-1732320000-1732492799@easternoutdoorexperiences.com
SUMMARY:Harriman Backpack (private)
DESCRIPTION:Private group backpacking in New York at Harriman State Park. \n  \nFrom fun social backpacking for novices to advanced navigation and multi-day trips in the back country\, we educate and provide enjoyable experiences that you will want to repeat. \nContact Ed to arrange a special outing for your group. \nContact \n  \nShare this:\n				Share on X (Opens in new window)\n				X\n			\n				Share on Facebook (Opens in new window)\n				Facebook
URL:https://easternoutdoorexperiences.com/event/harriman-backpack-20211120/
ATTACH;FMTTYPE=image/jpeg:https://easternoutdoorexperiences.com/wp-content/uploads/2021/11/20171118_090744eHarrimanBackpack.jpg
END:VEVENT
END:VCALENDAR