BEGIN:VCALENDAR
VERSION:2.0
PRODID:-//Eastern Outdoor Experiences - ECPv6.15.18//NONSGML v1.0//EN
CALSCALE:GREGORIAN
METHOD:PUBLISH
X-ORIGINAL-URL:https://easternoutdoorexperiences.com
X-WR-CALDESC:Events for Eastern Outdoor Experiences
REFRESH-INTERVAL;VALUE=DURATION:PT1H
X-Robots-Tag:noindex
X-PUBLISHED-TTL:PT1H
BEGIN:VTIMEZONE
TZID:America/New_York
BEGIN:DAYLIGHT
TZOFFSETFROM:-0500
TZOFFSETTO:-0400
TZNAME:EDT
DTSTART:20240310T070000
END:DAYLIGHT
BEGIN:STANDARD
TZOFFSETFROM:-0400
TZOFFSETTO:-0500
TZNAME:EST
DTSTART:20241103T060000
END:STANDARD
BEGIN:DAYLIGHT
TZOFFSETFROM:-0500
TZOFFSETTO:-0400
TZNAME:EDT
DTSTART:20250309T070000
END:DAYLIGHT
BEGIN:STANDARD
TZOFFSETFROM:-0400
TZOFFSETTO:-0500
TZNAME:EST
DTSTART:20251102T060000
END:STANDARD
BEGIN:DAYLIGHT
TZOFFSETFROM:-0500
TZOFFSETTO:-0400
TZNAME:EDT
DTSTART:20260308T070000
END:DAYLIGHT
BEGIN:STANDARD
TZOFFSETFROM:-0400
TZOFFSETTO:-0500
TZNAME:EST
DTSTART:20261101T060000
END:STANDARD
END:VTIMEZONE
BEGIN:VEVENT
DTSTART;TZID=America/New_York:20250531T090000
DTEND;TZID=America/New_York:20250601T170000
DTSTAMP:20260422T050937
CREATED:20250423T222500Z
LAST-MODIFIED:20250510T195444Z
UID:11086-1748682000-1748797200@easternoutdoorexperiences.com
SUMMARY:Wilderness First Aid - Long Island\, NY
DESCRIPTION:This comprehensive 16 hour Wilderness First Aid certification course teaches practical skills that will enable you to respond to wilderness injuries and emergencies. \n\n\n\nWilderness environments create special situations not usually encountered in an urban or suburban environment. With ASHI Wilderness First Aid training\, first aid providers in a wilderness setting will be better prepared to respond when faced with limited resources\, longer times to care for someone\, and decisions about when and how fast to evacuate an ill or injured person. This comprehensive 16-hour course meets or exceeds the Boy Scouts of America Wilderness First Aid Curriculum and Doctrine Guidelines\, 2017 Edition. \n\n\n\nPrerequisites \n\n\n\n\nAdult CPR and AED certification is a pre-requisite. If needed\, CPR/AED training can be provided outside of WFA class hours. See Adult CPR-AED course details\n\n\n\n\nIncludes \n\n\n\n\nIn person instruction and course materials\n\n\n\nDigital student book and certification card\n\n\n\n\nMore Information: Register for course \n\n\n\n\n\n\n\n\n\n\n\n\n\n\nShare this:\n				Share on X (Opens in new window)\n				X\n			\n				Share on Facebook (Opens in new window)\n				Facebook
URL:https://easternoutdoorexperiences.com/event/20250531-wilderness-first-aid-long-island-ny/
ATTACH;FMTTYPE=image/jpeg:https://easternoutdoorexperiences.com/wp-content/uploads/2022/06/20240607_110920-WFA.jpg
END:VEVENT
BEGIN:VEVENT
DTSTART;TZID=America/New_York:20250610T080000
DTEND;TZID=America/New_York:20250610T170000
DTSTAMP:20260422T050937
CREATED:20250423T223829Z
LAST-MODIFIED:20250423T223929Z
UID:11088-1749542400-1749574800@easternoutdoorexperiences.com
SUMMARY:Hiking on Long Island (Private Group)
DESCRIPTION:Dozens of great spots ranging from short easy hikes to more difficult. From rocky shores to sandy beaches\, steep hillsides to wide gentle paths\, lakes\, rivers and pine forests\, Hiking on Long Island offers tremendous variety for hikers and walkers of all abilities. \n\n\n\nWe can arrange special events for your organization. Contact Ed for more information. \n\n\n\nContact \n\n\n\n\n\n\n\n\n\n\n\n\n\n\n\n\n\n\nShare this:\n				Share on X (Opens in new window)\n				X\n			\n				Share on Facebook (Opens in new window)\n				Facebook
URL:https://easternoutdoorexperiences.com/event/20250610-hiking-on-long-island/
ATTACH;FMTTYPE=image/jpeg:https://easternoutdoorexperiences.com/wp-content/uploads/2025/04/20230606_102338e-Orient.jpg
END:VEVENT
BEGIN:VEVENT
DTSTART;TZID=America/New_York:20250611T080000
DTEND;TZID=America/New_York:20250611T170000
DTSTAMP:20260422T050937
CREATED:20250315T193049Z
LAST-MODIFIED:20250315T194648Z
UID:10406-1749628800-1749661200@easternoutdoorexperiences.com
SUMMARY:Table and Peekamoose Mountains
DESCRIPTION:Our route out-and-back to Table and Peekamoose Mountains is almost 10 miles in length and takes in two of the higher summits in the Catskills.  Both peaks are over 3800 feet in elevation with some noticeable dips and bumps on the way. The total ascent will be 2700 feet.  We’ll hike at a moderate pace and enjoy ourselves while getting a great workout.   \n\n\n\nThis hike is being presented in conjunction with the Adirondack Mountain Club and the Catskill 3500 Club. We strongly encourage you to consider joining these worthy organizations. \n\n\n\nContact Ed to reserve your spot. Please share a sentence or two about your recent hiking experience. \n\n\n\n\n\n\n\n\nContact\n\n\n\n\n\n\n\n\n\n\n\n\nAbout our social series:Ed is an avid hiker with a long tradition of giving back to the hiking community by leading free guided hikes for clubs and friends of Eastern Outdoor Experiences. There is never a charge for social hikes and all sufficiently fit hikers are welcome to join. If you’re not sure of your ability to do a hike\, call us and ask. Use the contact form to request our newsletter so that you can be informed of more upcoming hikes and events\, as well as useful advice for outdoor enthusiasts. \n\n\n\n\nCatskill 3500 Experiences\n\n\n\n\n\n\n\n\n\n\n\nShare this:\n				Share on X (Opens in new window)\n				X\n			\n				Share on Facebook (Opens in new window)\n				Facebook
URL:https://easternoutdoorexperiences.com/event/20250611table-and-peekamoose-mountains/
ATTACH;FMTTYPE=image/jpeg:https://easternoutdoorexperiences.com/wp-content/uploads/2025/03/1107Peekamoose-Table-012.jpg
END:VEVENT
BEGIN:VEVENT
DTSTART;TZID=America/New_York:20250625T080000
DTEND;TZID=America/New_York:20250625T170000
DTSTAMP:20260422T050937
CREATED:20250528T154119Z
LAST-MODIFIED:20250528T154120Z
UID:11855-1750838400-1750870800@easternoutdoorexperiences.com
SUMMARY:Hiking on Long Island (Private Group)
DESCRIPTION:Dozens of great spots ranging from short easy hikes to more difficult. From rocky shores to sandy beaches\, steep hillsides to wide gentle paths\, lakes\, rivers and pine forests\, Hiking on Long Island offers tremendous variety for hikers and walkers of all abilities. \n\n\n\nWe can arrange special events for your organization. Contact Ed for more information. \n\n\n\nContact \n\n\n\n\n\n\n\n\n\n\n\n\n\n\n\n\n\n\nShare this:\n				Share on X (Opens in new window)\n				X\n			\n				Share on Facebook (Opens in new window)\n				Facebook
URL:https://easternoutdoorexperiences.com/event/20250625-hiking-on-long-island/
ATTACH;FMTTYPE=image/jpeg:https://easternoutdoorexperiences.com/wp-content/uploads/2025/02/20220614_113300-Hallock.jpg
END:VEVENT
END:VCALENDAR