BEGIN:VCALENDAR
VERSION:2.0
PRODID:-//Eastern Outdoor Experiences - ECPv6.15.18//NONSGML v1.0//EN
CALSCALE:GREGORIAN
METHOD:PUBLISH
X-WR-CALNAME:Eastern Outdoor Experiences
X-ORIGINAL-URL:https://easternoutdoorexperiences.com
X-WR-CALDESC:Events for Eastern Outdoor Experiences
REFRESH-INTERVAL;VALUE=DURATION:PT1H
X-Robots-Tag:noindex
X-PUBLISHED-TTL:PT1H
BEGIN:VTIMEZONE
TZID:America/New_York
BEGIN:DAYLIGHT
TZOFFSETFROM:-0500
TZOFFSETTO:-0400
TZNAME:EDT
DTSTART:20240310T070000
END:DAYLIGHT
BEGIN:STANDARD
TZOFFSETFROM:-0400
TZOFFSETTO:-0500
TZNAME:EST
DTSTART:20241103T060000
END:STANDARD
BEGIN:DAYLIGHT
TZOFFSETFROM:-0500
TZOFFSETTO:-0400
TZNAME:EDT
DTSTART:20250309T070000
END:DAYLIGHT
BEGIN:STANDARD
TZOFFSETFROM:-0400
TZOFFSETTO:-0500
TZNAME:EST
DTSTART:20251102T060000
END:STANDARD
BEGIN:DAYLIGHT
TZOFFSETFROM:-0500
TZOFFSETTO:-0400
TZNAME:EDT
DTSTART:20260308T070000
END:DAYLIGHT
BEGIN:STANDARD
TZOFFSETFROM:-0400
TZOFFSETTO:-0500
TZNAME:EST
DTSTART:20261101T060000
END:STANDARD
END:VTIMEZONE
BEGIN:VEVENT
DTSTART;TZID=America/New_York:20250708T080000
DTEND;TZID=America/New_York:20250708T170000
DTSTAMP:20260422T030811
CREATED:20250424T022828Z
LAST-MODIFIED:20250424T053757Z
UID:11100-1751961600-1751994000@easternoutdoorexperiences.com
SUMMARY:Hiking on Long Island (Private Group)
DESCRIPTION:We guide to dozens of great spots ranging from short easy hikes to more difficult. From rocky shores to sandy beaches\, steep hillsides to wide gentle paths\, lakes\, rivers and pine forests\, Hiking on Long Island offers tremendous variety for hikers and walkers of all abilities. \n\n\n\nWe can arrange special events for your organization. Contact Ed for more information. \n\n\n\nContact \n\n\n\n\n\n\n\n\n\n\n\n\n\n\nShare this:\n				Share on X (Opens in new window)\n				X\n			\n				Share on Facebook (Opens in new window)\n				Facebook
URL:https://easternoutdoorexperiences.com/event/20250708-hiking-on-long-island/
ATTACH;FMTTYPE=image/jpeg:https://easternoutdoorexperiences.com/wp-content/uploads/2025/04/20200325_160015e2c-Sweetbriar.jpg
END:VEVENT
BEGIN:VEVENT
DTSTART;TZID=America/New_York:20250709T000000
DTEND;TZID=America/New_York:20250709T235959
DTSTAMP:20260422T030811
CREATED:20200701T190717Z
LAST-MODIFIED:20250528T223457Z
UID:2619-1752019200-1752105599@easternoutdoorexperiences.com
SUMMARY:Blackhead Range
DESCRIPTION:The Blackhead Range is a prominent landmark in the northern Catskills and it’s three main peaks are the 3rd\, 4th\, and 5th highest of the Catskill 3500. In fact\, an average height person standing on the summit of Black Dome Mountain is breathing 4000 foot air. We’ll summit all three (Black Dome\, Blackhead\, and Thomas Cole on this 8 mile trail hike with almost 3000 feet of elevation gain. \n\n\n\nThis hike can be challenging for people unaccustomed to hiking in the mountains and you’ll need to carry plenty of drinking water. \n\n\n\nThis hike is being presented in conjunction with the Adirondack Mountain Club and the Catskill 3500 Club. We strongly encourage you to consider joining these worthy organizations. \n\n\n\nContact Ed to reserve your spot. Please share a sentence or two about your recent hiking experience. \n\n\n\n\nContact\n\n\n\n\n\n\n\n\n\n\n\n\n\n\n\n\nAbout our social series:Ed is an avid hiker with a long tradition of giving back to the hiking community by leading free guided hikes for clubs and friends of Eastern Outdoor Experiences. There is never a charge for social hikes and all sufficiently fit hikers are welcome to join. If you’re not sure of your ability to do a hike\, call us and ask. Use the contact form to request our newsletter so that you can be informed of more upcoming hikes and events\, as well as useful advice for outdoor enthusiasts. \n\n\n\n\n\n\n\n\nCatskill 3500 Experiences\n\n\n\n\n\nShare this:\n				Share on X (Opens in new window)\n				X\n			\n				Share on Facebook (Opens in new window)\n				Facebook
URL:https://easternoutdoorexperiences.com/event/blackhead-range-catskill-social-series/
CATEGORIES:Display On Blog,Free Hike
ATTACH;FMTTYPE=image/jpeg:https://easternoutdoorexperiences.com/wp-content/uploads/2020/07/20230914_124120-Blackhead.jpg
END:VEVENT
BEGIN:VEVENT
DTSTART;TZID=America/New_York:20250712T080000
DTEND;TZID=America/New_York:20250713T170000
DTSTAMP:20260422T030811
CREATED:20250207T002953Z
LAST-MODIFIED:20250424T001239Z
UID:9835-1752307200-1752426000@easternoutdoorexperiences.com
SUMMARY:CMSAR
DESCRIPTION:Share this:\n				Share on X (Opens in new window)\n				X\n			\n				Share on Facebook (Opens in new window)\n				Facebook
URL:https://easternoutdoorexperiences.com/event/20250309-cmsar/
ATTACH;FMTTYPE=image/jpeg:https://easternoutdoorexperiences.com/wp-content/uploads/2020/01/CMSAR-logo-cs150q60.jpg
END:VEVENT
BEGIN:VEVENT
DTSTART;TZID=America/New_York:20250715T080000
DTEND;TZID=America/New_York:20250718T100000
DTSTAMP:20260422T030811
CREATED:20240321T222049Z
LAST-MODIFIED:20250423T224139Z
UID:6708-1752566400-1752832800@easternoutdoorexperiences.com
SUMMARY:NYSOGA
DESCRIPTION:Share this:\n				Share on X (Opens in new window)\n				X\n			\n				Share on Facebook (Opens in new window)\n				Facebook
URL:https://easternoutdoorexperiences.com/event/20240809-nysoga/
ATTACH;FMTTYPE=image/jpeg:https://easternoutdoorexperiences.com/wp-content/uploads/2023/11/NYSOGA-logo-ecs400.jpg
END:VEVENT
END:VCALENDAR