BEGIN:VCALENDAR
VERSION:2.0
PRODID:-//Eastern Outdoor Experiences - ECPv6.15.18//NONSGML v1.0//EN
CALSCALE:GREGORIAN
METHOD:PUBLISH
X-WR-CALNAME:Eastern Outdoor Experiences
X-ORIGINAL-URL:https://easternoutdoorexperiences.com
X-WR-CALDESC:Events for Eastern Outdoor Experiences
REFRESH-INTERVAL;VALUE=DURATION:PT1H
X-Robots-Tag:noindex
X-PUBLISHED-TTL:PT1H
BEGIN:VTIMEZONE
TZID:America/New_York
BEGIN:DAYLIGHT
TZOFFSETFROM:-0500
TZOFFSETTO:-0400
TZNAME:EDT
DTSTART:20240310T070000
END:DAYLIGHT
BEGIN:STANDARD
TZOFFSETFROM:-0400
TZOFFSETTO:-0500
TZNAME:EST
DTSTART:20241103T060000
END:STANDARD
BEGIN:DAYLIGHT
TZOFFSETFROM:-0500
TZOFFSETTO:-0400
TZNAME:EDT
DTSTART:20250309T070000
END:DAYLIGHT
BEGIN:STANDARD
TZOFFSETFROM:-0400
TZOFFSETTO:-0500
TZNAME:EST
DTSTART:20251102T060000
END:STANDARD
BEGIN:DAYLIGHT
TZOFFSETFROM:-0500
TZOFFSETTO:-0400
TZNAME:EDT
DTSTART:20260308T070000
END:DAYLIGHT
BEGIN:STANDARD
TZOFFSETFROM:-0400
TZOFFSETTO:-0500
TZNAME:EST
DTSTART:20261101T060000
END:STANDARD
END:VTIMEZONE
BEGIN:VEVENT
DTSTART;TZID=America/New_York:20250902T080000
DTEND;TZID=America/New_York:20250902T170000
DTSTAMP:20260422T001818
CREATED:20231122T061841Z
LAST-MODIFIED:20250315T050225Z
UID:5846-1756800000-1756832400@easternoutdoorexperiences.com
SUMMARY:Not Available
DESCRIPTION:gg113 \n\n\n\n\n\n\n\n\n\n\nShare this:\n				Share on X (Opens in new window)\n				X\n			\n				Share on Facebook (Opens in new window)\n				Facebook
URL:https://easternoutdoorexperiences.com/event/20231209-not-available/
END:VEVENT
BEGIN:VEVENT
DTSTART;TZID=America/New_York:20250910T080000
DTEND;TZID=America/New_York:20250910T170000
DTSTAMP:20260422T001818
CREATED:20250528T221851Z
LAST-MODIFIED:20250528T221852Z
UID:11869-1757491200-1757523600@easternoutdoorexperiences.com
SUMMARY:North Dome and Sherrill Mountains
DESCRIPTION:These two required peaks for Catskill 3500 Club membership include some rough terrain that you have to negotiate before reaching the summits and signing the canister log books. The ledges on North Dome are notorious and can be a major obstacle for the uninitiated. The summits themselves are view-less\, but there are spectacular viewpoints near both summits. \n\n\n\nThis is a challenging hike covering nearly 10 miles with 3300 feet of elevation gain.  Most of the hike is off-trail (i.e.\, “bushwhacking”). \n\n\n\nThis hike is being presented in conjunction with the Adirondack Mountain Club and the Catskill 3500 Club. We strongly encourage you to consider joining these worthy organizations. \n\n\n\nContact Ed to reserve your spot. Please share a sentence or two about your recent hiking experience. \n\n\n\n\n\n\n\n\nContact\n\n\n\n\n\n\n\n\n\n\n\n\n\n\n\n\nAbout our social series:Ed is an avid hiker with a long tradition of giving back to the hiking community by leading free guided hikes for clubs and friends of Eastern Outdoor Experiences. There is never a charge for social hikes and all sufficiently fit hikers are welcome to join. If you’re not sure of your ability to do a hike\, call us and ask. Use the contact form to request our newsletter so that you can be informed of more upcoming hikes and events\, as well as useful advice for outdoor enthusiasts. \n\n\n\n\nCatskill 3500 Experiences\n\n\n\n\n\n\n\n\n\n\n\nShare this:\n				Share on X (Opens in new window)\n				X\n			\n				Share on Facebook (Opens in new window)\n				Facebook
URL:https://easternoutdoorexperiences.com/event/20250910-north-dome-and-sherrill-mountains/
ATTACH;FMTTYPE=image/jpeg:https://easternoutdoorexperiences.com/wp-content/uploads/2025/05/20180620_135639-Sherrill.jpg
END:VEVENT
BEGIN:VEVENT
DTSTART;TZID=America/New_York:20250914T080000
DTEND;TZID=America/New_York:20250914T170000
DTSTAMP:20260422T001818
CREATED:20240611T193833Z
LAST-MODIFIED:20250825T222512Z
UID:7216-1757836800-1757869200@easternoutdoorexperiences.com
SUMMARY:Unavailable
DESCRIPTION:Share this:\n				Share on X (Opens in new window)\n				X\n			\n				Share on Facebook (Opens in new window)\n				Facebook
URL:https://easternoutdoorexperiences.com/event/20240623-unavailable/
END:VEVENT
BEGIN:VEVENT
DTSTART;TZID=America/New_York:20250916T080000
DTEND;TZID=America/New_York:20250916T170000
DTSTAMP:20260422T001818
CREATED:20250815T013716Z
LAST-MODIFIED:20250815T013720Z
UID:13881-1758009600-1758042000@easternoutdoorexperiences.com
SUMMARY:Hiking on Long Island (Private Group)
DESCRIPTION:We guide to dozens of great spots ranging from short easy hikes to more difficult. From rocky shores to sandy beaches\, steep hillsides to wide gentle paths\, lakes\, rivers and pine forests\, Hiking on Long Island offers tremendous variety for hikers and walkers of all abilities. \n\n\n\nWe can arrange special events for your organization. Contact Ed for more information. \n\n\n\nContact \n\n\n\n\n\n\n\n\n\n\n\n\n\n\nShare this:\n				Share on X (Opens in new window)\n				X\n			\n				Share on Facebook (Opens in new window)\n				Facebook
URL:https://easternoutdoorexperiences.com/event/hiking-on-long-island-private-group/
ATTACH;FMTTYPE=image/jpeg:https://easternoutdoorexperiences.com/wp-content/uploads/2025/08/1105Peconic-129e.jpg
END:VEVENT
BEGIN:VEVENT
DTSTART;TZID=America/New_York:20250919T170000
DTEND;TZID=America/New_York:20250921T170000
DTSTAMP:20260422T001818
CREATED:20220414T163417Z
LAST-MODIFIED:20250424T050635Z
UID:3771-1758301200-1758474000@easternoutdoorexperiences.com
SUMMARY:Wilderness First Aid
DESCRIPTION:Instructor – WFA \n\n\n\nSee 3500 Club website for details:  http://catskill-3500-club.org/ \n\n\n\n\n\n\nShare this:\n				Share on X (Opens in new window)\n				X\n			\n				Share on Facebook (Opens in new window)\n				Facebook
URL:https://easternoutdoorexperiences.com/event/20221015-wilderness-first-aid-instruction/
ATTACH;FMTTYPE=image/png:https://easternoutdoorexperiences.com/wp-content/uploads/2020/01/3500_Club_logo.png
END:VEVENT
END:VCALENDAR