BEGIN:VCALENDAR
VERSION:2.0
PRODID:-//Eastern Outdoor Experiences - ECPv6.15.18//NONSGML v1.0//EN
CALSCALE:GREGORIAN
METHOD:PUBLISH
X-WR-CALNAME:Eastern Outdoor Experiences
X-ORIGINAL-URL:https://easternoutdoorexperiences.com
X-WR-CALDESC:Events for Eastern Outdoor Experiences
REFRESH-INTERVAL;VALUE=DURATION:PT1H
X-Robots-Tag:noindex
X-PUBLISHED-TTL:PT1H
BEGIN:VTIMEZONE
TZID:America/New_York
BEGIN:DAYLIGHT
TZOFFSETFROM:-0500
TZOFFSETTO:-0400
TZNAME:EDT
DTSTART:20240310T070000
END:DAYLIGHT
BEGIN:STANDARD
TZOFFSETFROM:-0400
TZOFFSETTO:-0500
TZNAME:EST
DTSTART:20241103T060000
END:STANDARD
BEGIN:DAYLIGHT
TZOFFSETFROM:-0500
TZOFFSETTO:-0400
TZNAME:EDT
DTSTART:20250309T070000
END:DAYLIGHT
BEGIN:STANDARD
TZOFFSETFROM:-0400
TZOFFSETTO:-0500
TZNAME:EST
DTSTART:20251102T060000
END:STANDARD
BEGIN:DAYLIGHT
TZOFFSETFROM:-0500
TZOFFSETTO:-0400
TZNAME:EDT
DTSTART:20260308T070000
END:DAYLIGHT
BEGIN:STANDARD
TZOFFSETFROM:-0400
TZOFFSETTO:-0500
TZNAME:EST
DTSTART:20261101T060000
END:STANDARD
END:VTIMEZONE
BEGIN:VEVENT
DTSTART;TZID=America/New_York:20251004T080000
DTEND;TZID=America/New_York:20251005T170000
DTSTAMP:20260421T171643
CREATED:20250719T210434Z
LAST-MODIFIED:20250719T210435Z
UID:13217-1759564800-1759683600@easternoutdoorexperiences.com
SUMMARY:Wilderness First Aid
DESCRIPTION:Oneonta NY \n\n\n\nGet certified in Wilderness First Aid in this 2-day course. \n\n\n\nContact us for more information \n\n\n\n\n\n\n\n\n\n\n\n\n\n\nShare this:\n				Share on X (Opens in new window)\n				X\n			\n				Share on Facebook (Opens in new window)\n				Facebook
URL:https://easternoutdoorexperiences.com/event/wilderness-first-aid/
ATTACH;FMTTYPE=image/jpeg:https://easternoutdoorexperiences.com/wp-content/uploads/2025/07/20250601_113104c1-WFA.jpg
END:VEVENT
BEGIN:VEVENT
DTSTART;TZID=America/New_York:20251006T090000
DTEND;TZID=America/New_York:20251007T120000
DTSTAMP:20260421T171643
CREATED:20250719T211034Z
LAST-MODIFIED:20250719T211226Z
UID:13219-1759741200-1759838400@easternoutdoorexperiences.com
SUMMARY:Basic Hiking and Backpacking Skills Sessions
DESCRIPTION:Oneonta\, NY.  Stay tuned for more details. \n\n\n\n\n\n\n\n\n\n\n\n\n\n\nShare this:\n				Share on X (Opens in new window)\n				X\n			\n				Share on Facebook (Opens in new window)\n				Facebook
URL:https://easternoutdoorexperiences.com/event/basic-hiking-and-backpacking-skills-sessions/
ATTACH;FMTTYPE=image/jpeg:https://easternoutdoorexperiences.com/wp-content/uploads/2022/09/20220823_111103es400Backpack.jpg
END:VEVENT
BEGIN:VEVENT
DTSTART;TZID=America/New_York:20251007T140000
DTEND;TZID=America/New_York:20251008T120000
DTSTAMP:20260421T171643
CREATED:20250719T211945Z
LAST-MODIFIED:20250719T211946Z
UID:13223-1759845600-1759924800@easternoutdoorexperiences.com
SUMMARY:Beginner Backpacking Overnight
DESCRIPTION:Easy overnight beginner backpack following up on the October 6 skills session.  Oneonta\, NY.  Details coming soon. \n\n\n\n\n\n\n\n\n\n\n\n\n\n\nShare this:\n				Share on X (Opens in new window)\n				X\n			\n				Share on Facebook (Opens in new window)\n				Facebook
URL:https://easternoutdoorexperiences.com/event/beginner-backpacking-overnight/
ATTACH;FMTTYPE=image/jpeg:https://easternoutdoorexperiences.com/wp-content/uploads/2023/02/20211120_104528-Harriman-Backpack.jpg
END:VEVENT
BEGIN:VEVENT
DTSTART;TZID=America/New_York:20251010T080000
DTEND;TZID=America/New_York:20251013T170000
DTSTAMP:20260421T171643
CREATED:20240523T015206Z
LAST-MODIFIED:20250423T224522Z
UID:7061-1760083200-1760374800@easternoutdoorexperiences.com
SUMMARY:Adirondack Hiking
DESCRIPTION:Share this:\n				Share on X (Opens in new window)\n				X\n			\n				Share on Facebook (Opens in new window)\n				Facebook
URL:https://easternoutdoorexperiences.com/event/20241011adirondack-hiking/
ATTACH;FMTTYPE=image/jpeg:https://easternoutdoorexperiences.com/wp-content/uploads/2016/04/20141012GraySkylightMarcy-072s400.jpg
END:VEVENT
BEGIN:VEVENT
DTSTART;TZID=America/New_York:20251022T080000
DTEND;TZID=America/New_York:20251022T170000
DTSTAMP:20260421T171643
CREATED:20250817T200950Z
LAST-MODIFIED:20250817T201147Z
UID:13972-1761120000-1761152400@easternoutdoorexperiences.com
SUMMARY:Balsam and Eagle Mountains
DESCRIPTION:Our free club hike event on October 22 will take us to the summits of Balsam and Eagle Mountains in the Catskills. With a little luck there may still be some fall color remaining at the lower elevations\, although higher up will probably be into “stick season”. This is a strenuous hike with 2800 feet of elevation gain over 10 miles. \n\n\n\nThis hike is being presented in conjunction with the Catskill 3500 Club and the Adirondack Mountain Club. We strongly encourage you to join one or both of these clubs. \n\n\n\nContact Ed to reserve your spot on this challenging hike. Please share a sentence or two about your recent hiking experience. Registration deadline is October 19. \n\n\n\n\nContact\n\n\n\n\n\n\n\n\n\n\n\n\n\n\n\n\n\n\n\nShare this:\n				Share on X (Opens in new window)\n				X\n			\n				Share on Facebook (Opens in new window)\n				Facebook
URL:https://easternoutdoorexperiences.com/event/20251022-balsam-and-eagle-mountains/
ATTACH;FMTTYPE=image/jpeg:https://easternoutdoorexperiences.com/wp-content/uploads/2025/08/20210916_141014c-Eagle.jpg
END:VEVENT
BEGIN:VEVENT
DTSTART;TZID=America/New_York:20251024T080000
DTEND;TZID=America/New_York:20251024T170000
DTSTAMP:20260421T171643
CREATED:20250829T145107Z
LAST-MODIFIED:20251007T171024Z
UID:14307-1761292800-1761325200@easternoutdoorexperiences.com
SUMMARY:Unavailable
DESCRIPTION:dm130 \n\n\n\n\n\n\n\n\n\n\n\n\n\n \nShare this:\n				Share on X (Opens in new window)\n				X\n			\n				Share on Facebook (Opens in new window)\n				Facebook
URL:https://easternoutdoorexperiences.com/event/20250923-unavailable/
END:VEVENT
BEGIN:VEVENT
DTSTART;TZID=America/New_York:20251028T080000
DTEND;TZID=America/New_York:20251028T170000
DTSTAMP:20260421T171643
CREATED:20250818T203316Z
LAST-MODIFIED:20250818T203317Z
UID:14004-1761638400-1761670800@easternoutdoorexperiences.com
SUMMARY:Hiking on Long Island (Private Group)
DESCRIPTION:We guide to dozens of great spots ranging from short easy hikes to more difficult. From rocky shores to sandy beaches\, steep hillsides to wide gentle paths\, lakes\, rivers and pine forests\, Hiking on Long Island offers tremendous variety for hikers and walkers of all abilities. \n\n\n\nWe can arrange special events for your organization. Contact Ed for more information. \n\n\n\nContact \n\n\n\n\n\n\n\n\n\n\n\n\n\n\n\n\n\n\nShare this:\n				Share on X (Opens in new window)\n				X\n			\n				Share on Facebook (Opens in new window)\n				Facebook
URL:https://easternoutdoorexperiences.com/event/20251028-hiking-on-long-island/
ATTACH;FMTTYPE=image/jpeg:https://easternoutdoorexperiences.com/wp-content/uploads/2025/08/20231028_152028-Kunz.jpg
END:VEVENT
END:VCALENDAR