BEGIN:VCALENDAR
VERSION:2.0
PRODID:-//Eastern Outdoor Experiences - ECPv6.15.18//NONSGML v1.0//EN
CALSCALE:GREGORIAN
METHOD:PUBLISH
X-WR-CALNAME:Eastern Outdoor Experiences
X-ORIGINAL-URL:https://easternoutdoorexperiences.com
X-WR-CALDESC:Events for Eastern Outdoor Experiences
REFRESH-INTERVAL;VALUE=DURATION:PT1H
X-Robots-Tag:noindex
X-PUBLISHED-TTL:PT1H
BEGIN:VTIMEZONE
TZID:America/New_York
BEGIN:DAYLIGHT
TZOFFSETFROM:-0500
TZOFFSETTO:-0400
TZNAME:EDT
DTSTART:20240310T070000
END:DAYLIGHT
BEGIN:STANDARD
TZOFFSETFROM:-0400
TZOFFSETTO:-0500
TZNAME:EST
DTSTART:20241103T060000
END:STANDARD
BEGIN:DAYLIGHT
TZOFFSETFROM:-0500
TZOFFSETTO:-0400
TZNAME:EDT
DTSTART:20250309T070000
END:DAYLIGHT
BEGIN:STANDARD
TZOFFSETFROM:-0400
TZOFFSETTO:-0500
TZNAME:EST
DTSTART:20251102T060000
END:STANDARD
BEGIN:DAYLIGHT
TZOFFSETFROM:-0500
TZOFFSETTO:-0400
TZNAME:EDT
DTSTART:20260308T070000
END:DAYLIGHT
BEGIN:STANDARD
TZOFFSETFROM:-0400
TZOFFSETTO:-0500
TZNAME:EST
DTSTART:20261101T060000
END:STANDARD
END:VTIMEZONE
BEGIN:VEVENT
DTSTART;TZID=America/New_York:20251105T080000
DTEND;TZID=America/New_York:20251105T170000
DTSTAMP:20260421T171726
CREATED:20251007T181720Z
LAST-MODIFIED:20251031T184703Z
UID:14966-1762329600-1762362000@easternoutdoorexperiences.com
SUMMARY:Rusk\, Hunter and Southwest Hunter
DESCRIPTION:Our November social series hike is an ambitious loop of Rusk\, Hunter\, and Southwest Hunter Mountains.  We’ll find the canisters on Rusk and Southwest Hunter and visit the fire tower on Hunter Mountain.  The fall time change will have happened and we’ll need need to move at a moderate to brisk pace to complete this hike before sunset.  We’ll cover 12 miles with approximately 3700 feet of elevation gain.  This hike is for strong hikers in good shape. \n\n\n\nThis hike is being presented in conjunction with the Adirondack Mountain Club and the Catskill 3500 Club. We strongly encourage you to consider joining these worthy organizations. \n\n\n\nContact Ed to reserve your spot on this challenging hike. Please share a sentence or two about your recent hiking experience. \n\n\n\n\nContact\n\n\n\n\n\n\n\n\n\n\n\n\nAbout our social series:Ed is an avid hiker with a long tradition of giving back to the hiking community by leading free guided hikes for clubs and friends of Eastern Outdoor Experiences. There is never a charge for these hikes and all sufficiently fit hikers are welcome to join. If you’re not sure of your ability to do a hike\, call us and ask. Use the contact form to request our newsletter so that you can be informed of more upcoming hikes and events\, as well as useful advice for outdoor enthusiasts. \n\n\n\nHopefully you can join in this or other hikes in our 2025 Catskill Social series or in some of our fully guided Catskill offerings: \n\n\n\n\nCatskill 3500 Experiences\n\n\n\n\n\n\n\n\n\n\n\nShare this:\n				Share on X (Opens in new window)\n				X\n			\n				Share on Facebook (Opens in new window)\n				Facebook
URL:https://easternoutdoorexperiences.com/event/20251105-rusk-hunter-and-southwest-hunter/
ATTACH;FMTTYPE=image/jpeg:https://easternoutdoorexperiences.com/wp-content/uploads/2025/10/20240915_142107-c-Rusk-Canister.jpg
END:VEVENT
BEGIN:VEVENT
DTSTART;TZID=America/New_York:20251118T080000
DTEND;TZID=America/New_York:20251118T170000
DTSTAMP:20260421T171726
CREATED:20250818T204412Z
LAST-MODIFIED:20250818T204413Z
UID:14008-1763452800-1763485200@easternoutdoorexperiences.com
SUMMARY:Hiking on Long Island (Private Group)
DESCRIPTION:We guide to dozens of great spots ranging from short easy hikes to more difficult. From rocky shores to sandy beaches\, steep hillsides to wide gentle paths\, lakes\, rivers and pine forests\, Hiking on Long Island offers tremendous variety for hikers and walkers of all abilities. \n\n\n\nWe can arrange special events for your organization. Contact Ed to schedule your group: \n\n\n\nContact \n\n\n\n\n\n\n\n\n\n\n\n\n\n\n\n\n\n\nShare this:\n				Share on X (Opens in new window)\n				X\n			\n				Share on Facebook (Opens in new window)\n				Facebook
URL:https://easternoutdoorexperiences.com/event/20251118-hiking-on-long-island/
ATTACH;FMTTYPE=image/jpeg:https://easternoutdoorexperiences.com/wp-content/uploads/2025/08/20250723_104904-Cordwood.jpg
END:VEVENT
END:VCALENDAR