BEGIN:VCALENDAR
VERSION:2.0
PRODID:-//Eastern Outdoor Experiences - ECPv6.15.18//NONSGML v1.0//EN
CALSCALE:GREGORIAN
METHOD:PUBLISH
X-ORIGINAL-URL:https://easternoutdoorexperiences.com
X-WR-CALDESC:Events for Eastern Outdoor Experiences
REFRESH-INTERVAL;VALUE=DURATION:PT1H
X-Robots-Tag:noindex
X-PUBLISHED-TTL:PT1H
BEGIN:VTIMEZONE
TZID:America/New_York
BEGIN:DAYLIGHT
TZOFFSETFROM:-0500
TZOFFSETTO:-0400
TZNAME:EDT
DTSTART:20250309T070000
END:DAYLIGHT
BEGIN:STANDARD
TZOFFSETFROM:-0400
TZOFFSETTO:-0500
TZNAME:EST
DTSTART:20251102T060000
END:STANDARD
BEGIN:DAYLIGHT
TZOFFSETFROM:-0500
TZOFFSETTO:-0400
TZNAME:EDT
DTSTART:20260308T070000
END:DAYLIGHT
BEGIN:STANDARD
TZOFFSETFROM:-0400
TZOFFSETTO:-0500
TZNAME:EST
DTSTART:20261101T060000
END:STANDARD
BEGIN:DAYLIGHT
TZOFFSETFROM:-0500
TZOFFSETTO:-0400
TZNAME:EDT
DTSTART:20270314T070000
END:DAYLIGHT
BEGIN:STANDARD
TZOFFSETFROM:-0400
TZOFFSETTO:-0500
TZNAME:EST
DTSTART:20271107T060000
END:STANDARD
END:VTIMEZONE
BEGIN:VEVENT
DTSTART;TZID=America/New_York:20260211T080000
DTEND;TZID=America/New_York:20260211T170000
DTSTAMP:20260421T072355
CREATED:20251222T180715Z
LAST-MODIFIED:20251222T180717Z
UID:15453-1770796800-1770829200@easternoutdoorexperiences.com
SUMMARY:Southwest Hunter and Westkill Mountains
DESCRIPTION:We’ll hike these two peaks along the Devil’s Path in winter conditions that will add to the challenge.  At a hair under 3900 feet\, Westkill is the 6th highest in the Catskills.  Snowshoes and traction devices required.  This hike is 12 miles with 3700 feet of ascent and is for strong hikers in good shape. \n\n\n\nThis hike is being presented in conjunction with the Adirondack Mountain Club and the Catskill 3500 Club. We strongly encourage you to consider joining these worthy organizations. \n\n\n\nContact Ed to reserve your spot on this challenging hike. Please share a sentence or two about your recent hiking experience. \n\n\n\n\nContact\n\n\n\n\n\n\n\n\n\n\n\n\n\n\n\n\nHopefully you can join in this or other hikes in our 2026 Catskill Social series or in some of our fully guided Catskill offerings: \n\n\n\n\nCatskill 3500 Experiences\n\n\n\n\n\n\n\n\n\n\n\nShare this:\n				Share on X (Opens in new window)\n				X\n			\n				Share on Facebook (Opens in new window)\n				Facebook
URL:https://easternoutdoorexperiences.com/event/20260211-southwest-hunter-and-westkill/
ATTACH;FMTTYPE=image/jpeg:https://easternoutdoorexperiences.com/wp-content/uploads/2025/12/1103Westkill147.jpg
END:VEVENT
END:VCALENDAR